BEGIN:VCALENDAR
VERSION:2.0
PRODID:-//ChamberMaster//Event Calendar 2.0//EN
METHOD:PUBLISH
X-PUBLISHED-TTL:P3D
REFRESH-INTERVAL:P3D
CALSCALE:GREGORIAN
BEGIN:VEVENT
DTSTART:20210326T093000Z
DTEND:20210326T120000Z
X-MICROSOFT-CDO-ALLDAYEVENT:FALSE
SUMMARY:Open House for AMCHAM Members at JUSMAG
DESCRIPTION:JUSMAG (Joint U.S. Military Advisory Group) invites AMCHAM members to come for an informal open house to meet with its officers and other U.S. Embassy employees.\n\n \n\nThe Open House will begin with an introduction to JUSMAG and a tour of this historic facility. JUSMAG is the U.S. Security Cooperation Office (SCO) here in Thailand and oversees a vast number of programs that promote military cooperation between the US and Thailand. JUSMAG has made its home on a Royal Thai Armed Forces military compound on Sathorn Road.\n\n \n\nAfter the tour\, members are invited to stay on at the JUSMAG Bar\, which has an excellent selection of craft beers and a snack menu.\n\n \n\nJUSMAG is easily accessible from the Lumpini MRT station.  If you plan to drive\, please provide AMCHAM with your license plate number at least 48 hours in advance\, as your vehicle will need to be cleared.
X-ALT-DESC;FMTTYPE=text/html:JUSMAG (Joint U.S. Military Advisory Group) invites AMCHAM members to come for an informal open house to meet with its officers and other U.S. Embassy employees.<br />\n&nbsp\;<br />\nThe Open House will begin with an introduction to JUSMAG and a tour of this historic facility. JUSMAG is the U.S. Security Cooperation Office (SCO) here in Thailand and oversees a vast number of programs that promote military cooperation between the US and Thailand. JUSMAG has made its home on a Royal Thai Armed Forces military compound on Sathorn Road.<br />\n&nbsp\;<br />\nAfter the tour\, members are invited to stay on at the JUSMAG Bar\, which has an excellent selection of craft beers and a snack menu.<br />\n&nbsp\;<br />\nJUSMAG is easily accessible from the Lumpini MRT station.&nbsp\; If you plan to drive\, please provide AMCHAM with your license plate number at least 48 hours in advance\, as your vehicle will need to be cleared.
LOCATION:JUSMAG Thai (see map) MRT: Lumpini There is limited parking at the site\, so we recommend travelling by public transport. If you plan to drive\, please provide AMCHAM with your license plate number at least 48 hours in advance\, as your vehicle will need to be cleared.
UID:e.3314.1866
SEQUENCE:3
DTSTAMP:20260422T042758Z
URL:http://www.connect.amchamthailand.com/events/details/open-house-for-amcham-members-at-jusmag-1866
END:VEVENT

END:VCALENDAR
