BEGIN:VCALENDAR
VERSION:2.0
PRODID:-//ChamberMaster//Event Calendar 2.0//EN
METHOD:PUBLISH
X-PUBLISHED-TTL:P3D
REFRESH-INTERVAL:P3D
CALSCALE:GREGORIAN
BEGIN:VEVENT
DTSTART:20200428T093000Z
DTEND:20200428T103000Z
X-MICROSOFT-CDO-ALLDAYEVENT:FALSE
SUMMARY:Overtime: Home\, Work\, Homework
DESCRIPTION:Advance reservations has been closed.  Please contact sheree@amchamthailand.com if you would like to join this online event.\n\n\n\nCovid-19 has catapulted working parents into a perfect storm of home and work responsibilities.  As we've pivoted to working and managing teams remotely\, we've also tried to become homeschoolers extraordinaire. Instead we find ourselves with child-bombed video conferences\, sky-rocketing amounts of screentime and daily moments of hilarity\, love and craziness.\n\nPour yourself a glass of wine\, bring your long suffering-spouse and join AMCHAM Executive Director Heidi Gallant and Deputy Director Sarawan Dever for a virtual happy hour.\n\n You deserve it.\n\n\nDon't have time to cook?  Order from these restaurants\, and cross dinner off your to-do list:\n\n \n\n\n	Bourbon Street Bangkok\n	Cali-Mex\n	The Athenee Hotel\n	JW Marriott Hotel Bangkok\n	Anantara Siam Bangkok\n	Radisson Suites Sukhumvit and Punjab Grill\n	The Landmark\n	The Westin Grande Sukhumvit\n	McDonalds\n	Sofitel Bangkok Sukhumvit\n	W Hotel\n	Mandarin Oriental Bangkok\n	KFC\n	Burger King
X-ALT-DESC;FMTTYPE=text/html:<div a="" also="" amcham="" amounts="" and="" apple="" as="" become="" bring="" catapulted="" child-bombed="" color="" covid-19="" daily="" deputy="" deserve="" dever="" director="" div="" executive="" extraordinaire.="" find="" font-size:="" for="" gallant="" glass="" happy="" has="" heidi="" home="" homeschoolers="" instead="" into="" join="" long="" love="" managing="" moments="" of="" ourselves="" parents="" perfect="" pivoted="" pour="" sarawan="" screentime="" segoe="" sky-rocketing="" span="" storm="" style="box-sizing: border-box\; font-family: " suffering-spouse="" teams="" to="" tried="" ui="" ve="" video="" virtual="" we="" with="" work="" working="" you="" your="" yourself="">\n<div style="box-sizing: border-box\; font-family: &quot\;Segoe UI&quot\;\, system-ui\, &quot\;Apple Color Emoji&quot\;\, &quot\;Segoe UI Emoji&quot\;\, sans-serif\; font-size: 14px\;">\n<p><span style="font-size:11pt\;"><span style="font-size:10.0pt\;">Advance reservations has been closed.&nbsp\; Please contact sheree@amchamthailand.com if you would like to join this online event.<br />\n<br />\nCovid-19 has catapulted working parents into a perfect storm of home and work responsibilities.&nbsp\; As we&rsquo\;ve pivoted to working and managing teams remotely\, we&rsquo\;ve also tried to become homeschoolers extraordinaire. Instead we find ourselves with child-bombed video conferences\, sky-rocketing amounts of screentime and daily moments of hilarity\, love and craziness.</span></span></p>\n\n<p><span style="font-size: 10pt\;">Pour yourself a glass of wine\, bring your long suffering-spouse and join AMCHAM Executive Director Heidi Gallant and Deputy Director Sarawan Dever for a virtual happy hour.</span></p>\n\n<p>&nbsp\;<span style="font-size: 10pt\;">You deserve it.</span></p>\n</div>\n\n<p><span style="font-size:11pt\;"><i><span style="font-size:10.0pt\;">Don&rsquo\;t have time to cook?&nbsp\; Order from these restaurants\, and cross dinner off your to-do list:</span></i></span><br />\n&nbsp\;</p>\n\n<ul>\n	<li><a href="https://web.facebook.com/bourbonstbkk/?_rdc=1&amp\;_rdr">Bourbon Street Bangkok</a></li>\n	<li><a href="https://cali-mex.co.th/">Cali-Mex</a></li>\n	<li><a href="https://the-athenee-hotel-online-shop.myshopify.com/collections/the-athenee-to-go">The Athenee Hotel</a></li>\n	<li><a href="https://megatix.in.th/events/food-delivery-jw-marriott-hotel-bangkok?fbclid=IwAR1GWarxxzTHa8UxUKJCOQ4Qj7I-tsQLqm1i0_9ZpQUl-Pd3xRSRFjif1UU">JW Marriott Hotel Bangkok</a></li>\n	<li><a href="https://www.anantara.com/en/siam-bangkok/offers/all-your-favourite-food-delivered-direct">Anantara Siam Bangkok</a></li>\n	<li><a href="http://www.punjabgrillbangkok.com/">Radisson Suites Sukhumvit and Punjab Grill</a></li>\n	<li><a href="https://bit.ly/39i0aue">The Landmark</a></li>\n	<li><a href="https://www.facebook.com/WestinBangkok/">The Westin Grande Sukhumvit</a></li>\n	<li><a href="https://www.mcdonalds.co.th/mcDelivery/nonMember">McDonalds</a></li>\n	<li><a href="https://www.accorplus.com/en/offer/2020/04/th_sofitel-bangkok-sukhumvit-takeaway_april-2020">Sofitel Bangkok Sukhumvit</a></li>\n	<li><a href="https://web.facebook.com/WBangkok/photos/pcb.2649673291828536/2649672905161908/?type=3&amp\;theater">W Hotel</a></li>\n	<li><a href="https://web.facebook.com/MandarinOrientalBangkok/photos/a.10152066180098092/10158471009138092/?type=3&amp\;theater">Mandarin Oriental Bangkok</a></li>\n	<li><a href="https://www.kfc.co.th/menu/promotions?utm_source=google&amp\;utm_medium=sem&amp\;utm_campaign=180517_always-on_sem&amp\;utm_content=always-on_sem&amp\;gclid=EAIaIQobChMIp5_J8vT66AIVDJOPCh1uKAOZEAAYASAAEgK85_D_BwE&amp\;gclsrc=aw.ds">KFC</a></li>\n	<li><a href="https://burgerking.co.th/menu/28255?utm_source=google&amp\;utm_medium=paid_search&amp\;utm_campaign=200286597_P01%20-%20BurgerKing%20-%20Brand%20EN%20-%20GSN&amp\;utm_content=Brand%20-%20EN&amp\;utm_term=burger%20king%20delivery&amp\;gclid=EAIaIQobChMImNHB0Pb66AIVRhSPCh2u2gTbEAAYASAAEgLhL_D_BwE">Burger King</a></li>\n</ul>\n</div>\n
LOCATION:Online Video Conference
UID:e.3314.1596
SEQUENCE:3
DTSTAMP:20260422T215827Z
URL:http://www.connect.amchamthailand.com/events/details/overtime-home-work-homework-1596
END:VEVENT

END:VCALENDAR
