BEGIN:VCALENDAR
VERSION:2.0
PRODID:-//ChamberMaster//Event Calendar 2.0//EN
METHOD:PUBLISH
X-PUBLISHED-TTL:P3D
REFRESH-INTERVAL:P3D
CALSCALE:GREGORIAN
BEGIN:VEVENT
DTSTART:20211203T110000Z
DTEND:20211203T140000Z
X-MICROSOFT-CDO-ALLDAYEVENT:FALSE
SUMMARY:Partner Event: BCCT MULTI-CHAMBER NETWORKING IN HUA HIN
DESCRIPTION:REGISTER NOW\n\nBCCT\, in cooperation with AMCHAM\, AustCham\, BeLuThai\, CanCham\, FTCC\, GTCC and and STCC\, cordially invites you to a Multi-Chamber Networking in Hua Hin. \n\n\n\n*Due to COVID-19 restrictions and limited event space\, advance registration and prepayment are required to confirm your booking.*\n\n\n\n*All attendees are required to show proof of vaccination at the event entrance. Vaccinated criteria are at least 1 dose of a Thai FDA-approved COVID-19 vaccine\, including Sinovac\, Sinopharm\, AstraZeneca\, Johnson & Johnson\, Sputnik V\, Pfizer\, and Moderna. Please click here to view the full hotel's policy on Covid-19*\n\n\n\nMenu: \n\n - Cold Canap s: Seared peppered tuna\, mango coriander salsa\; Mini California rolls\, Japanese mayonnaise and Pork rillettes on soda roll\, gherkins\n\n- Hot Canap s: Mini sausage roll\, chili mayonnaise\; Prawn satays\, peanut sauce and French onion bites\, Emmental cheese\n\nStations: Mini fish and chips\, malt vinegar\, tartar sauce\, lemon and Chicken\, pineapple teriyaki sticks\n\nSweets: Mixed berry crumble and Banana chocolate tart
X-ALT-DESC;FMTTYPE=text/html:<p><span style="font-size:14px\;"><a href="https://members.bccthai.com/bcct/asp/eventbook.asp?member=N&amp\;EventID=3855"><span style="font-family:arial\;"><strong><span style="color:#000080\;">REGISTER NOW</span></strong></span></a></span></p>\n\n<p>BCCT\, in cooperation with AMCHAM\, AustCham\, BeLuThai\, CanCham\, FTCC\, GTCC and and STCC\, cordially invites you to a Multi-Chamber Networking in Hua Hin.&nbsp\;<br />\n<br />\n*Due to COVID-19 restrictions and limited event space\, advance registration and prepayment are required to confirm your booking.*<br />\n<br />\n*All attendees are required to show proof of vaccination at the event entrance. Vaccinated criteria are at least 1 dose of a Thai FDA-approved COVID-19 vaccine\, including Sinovac\, Sinopharm\, AstraZeneca\, Johnson &amp\; Johnson\, Sputnik V\, Pfizer\, and Moderna. Please click <a href="https://members.bccthai.com/asp/view_doc.asp?DocCID=4139">here</a> to view the full hotel&#39\;s policy on Covid-19*<br />\n<br />\n<u>Menu</u>:&nbsp\;<br />\n&nbsp\;- Cold Canap&eacute\;s: Seared peppered tuna\, mango coriander salsa\; Mini California rolls\, Japanese mayonnaise and Pork rillettes on soda roll\, gherkins<br />\n- Hot Canap&eacute\;s: Mini sausage roll\, chili mayonnaise\; Prawn satays\, peanut sauce and French onion bites\, Emmental cheese<br />\n<u>Stations</u>: Mini fish and chips\, malt vinegar\, tartar sauce\, lemon and Chicken\, pineapple teriyaki sticks<br />\n<u>Sweets</u>: Mixed berry crumble and Banana chocolate tart<br />\n&nbsp\;</p>\n
LOCATION:Centara Grand Beach Resort & Villas Hua Hin. Map Accommodation: Centara Grand Beach Resort & Villas Hua Hin is offering special room rates for those attending the event on 3rd - 5th December. For reservation please email chbr@chr.co.th or rsvnchbr@chr.co.th or call 032 512 021-38 and refer to "BCCT Multi-Chamber Networking on 3 December" as reservation code.
UID:e.3314.2073
SEQUENCE:3
DTSTAMP:20260423T095514Z
URL:http://www.connect.amchamthailand.com/events/details/partner-event-bcct-multi-chamber-networking-in-hua-hin-2073
END:VEVENT

END:VCALENDAR
