BEGIN:VCALENDAR
VERSION:2.0
PRODID:-//ChamberMaster//Event Calendar 2.0//EN
METHOD:PUBLISH
X-PUBLISHED-TTL:P3D
REFRESH-INTERVAL:P3D
CALSCALE:GREGORIAN
BEGIN:VEVENT
DTSTART:20211103T030000Z
DTEND:20211103T040000Z
X-MICROSOFT-CDO-ALLDAYEVENT:FALSE
SUMMARY:Partner Event with AMCHAM Myanmar: Doing Responsible Business in Myanmar
DESCRIPTION:REGISTER NOW\n\n \n\nInvestors and other stakeholders are increasingly calling for companies doing business in conflicted affected countries like Myanmar to do heightened human rights due diligence. But what does that actually mean? What are the risks\, and how should companies identify\, mitigate and report on them?\n\nPlease join us for a presentation to hear expert presenter and speaker Vicky Bowman discuss latest trends in conducting heightened due diligence\, particularly in Myanmar. Vicky will also speak in broad strokes about considerations for businesses weighing the risks and benefits of operating in Myanmar. This is an opportunity to hear from a true expert on the state of responsible business in Myanmar today.
X-ALT-DESC;FMTTYPE=text/html:<p><span style="font-size:14px\;"><a href="https://amchammyanmar.glueup.com/event/44784/register/"><span style="font-family:arial\;"><strong><span style="color:#000080\;">REGISTER NOW</span></strong></span></a></span><br />\n&nbsp\;</p>\n\n<p>Investors and other stakeholders are increasingly calling for companies doing business in conflicted affected countries like Myanmar to do heightened human rights due diligence. But what does that actually mean? What are the risks\, and how should companies identify\, mitigate and report on them?</p>\n\n<p>Please join us for a presentation to hear expert presenter and speaker&nbsp\;Vicky Bowman&nbsp\;discuss latest trends in conducting heightened due diligence\, particularly in Myanmar. Vicky will also speak in broad strokes about considerations for businesses weighing the risks and benefits of operating in Myanmar. This is an opportunity to hear from a true expert on the state of responsible business in Myanmar today.</p>\n
LOCATION:A webinar link will be sent to you in advance. This session will be conducted under Chatham House Rule\, is off-the-record\, and will not be recorded. This session is not open to members of the press. For press inquiries\, please contact service@amchammyanmar.com.
UID:e.3314.2032
SEQUENCE:3
DTSTAMP:20260421T123440Z
URL:http://www.connect.amchamthailand.com/events/details/partner-event-with-amcham-myanmar-doing-responsible-business-in-myanmar-2032
END:VEVENT

END:VCALENDAR
