BEGIN:VCALENDAR
VERSION:2.0
PRODID:-//ChamberMaster//Event Calendar 2.0//EN
METHOD:PUBLISH
X-PUBLISHED-TTL:P3D
REFRESH-INTERVAL:P3D
CALSCALE:GREGORIAN
BEGIN:VEVENT
DTSTART:20210624T030000Z
DTEND:20210624T043000Z
X-MICROSOFT-CDO-ALLDAYEVENT:FALSE
SUMMARY:Partner Event with Edelman: Trust Barometer 2021 - Thailand Launch
DESCRIPTION:After a year of unprecedented disaster and turbulence - the Covid-19 pandemic\, economic crisis and political instability - the 2021 Edelman Trust Barometer reveals an epidemic of misinformation and widespread mistrust of societal institutions and leaders around the world. Adding to this is a failing trust ecosystem unable to confront the rampant infodemic\, leaving the four institutions - business\, governments\, NGOs and media in an environment of information bankruptcy and a mandate to rebuild trust.\n\n\n\nIn this webinar\, we will unveil the findings for Thailand and explore its implications within our society.\n\n\n\nOur Speakers:\n\nAdrian Warr\, CEO\, Edelman Hong Kong\, Taiwan and Market Growth Thailand on Trust Barometer Findings for Thailand\n\nRob Candelino\, CEO\, Unilever Thailand and Inland ASEAN\n\nDr. Pavida Pananond\, Professor of International Business\, Thammasat Business School\n\nPranapda Phornprapha\, Founder\, Drangonfly360\, President\, Siam Music Yamaha and VP of Business Development\, Siam Motors\n\n\n\nAbout Edelman\n\nEdelman is a global communications firm that partners with businesses and organizations to evolve\, promote and protect their brands and reputations. Our 6\,000 people in more than 60 offices deliver communications strategies that give our clients the confidence to lead and act with certainty\, earning the trust of their stakeholders. Our honors include the Cannes Lions Grand Prix for PR\; Advertising Age's 2019 A-List\; the Holmes Report's 2018 Global Digital Agency of the Year\; and\, five times\, Glassdoor's Best Places to Work. \n\n\n\nAbout the Trust Barometer\n\nThe 2021 Edelman Trust Barometer is the firm's 21st annual trust and credibility survey. The survey was powered by research firm Edelman Data & Intelligence (DxI) and consisted of 30-minute online interviews conducted between October 19 and November 18\, 2020. The 2021 Edelman Trust Barometer online survey sampled more than 33\,000 respondents\, which includes 1\,150 general population respondents across 28 countries and 200 informed public respondents in each country\, except China and the U.S.\, which have a sample of 500 informed public respondents each and Nigeria which has 100 informed public respondents. All informed public respondents met the following criteria: aged 25-64\, college-educated\; household income in the top quartile for their age in their country\; read or watch business/news media at least several times a week\; follow public policy issues in the news at least several times a week. For more information\, visit https://www.edelman.com/trust-barometer
X-ALT-DESC;FMTTYPE=text/html:After a year of unprecedented disaster and turbulence - the&nbsp\;Covid-19 pandemic\, economic crisis and political instability - the 2021 Edelman Trust Barometer reveals an epidemic of misinformation and widespread mistrust of societal institutions and leaders around the world. Adding to this is a failing trust ecosystem unable to confront the rampant infodemic\, leaving the four institutions - business\, governments\, NGOs and media in an environment of information bankruptcy and a mandate to rebuild trust.<br />\n<br />\nIn this webinar\, we will unveil the findings for Thailand and explore its implications within our society.<br />\n<br />\n<strong>Our Speakers:</strong><br />\n<a background-color:="" font-size:="" href="http://hk.linkedin.com/in/adrianwarr" trebuchet="">Adrian Warr</a>\, CEO\, Edelman Hong Kong\, Taiwan and Market Growth Thailand on Trust Barometer Findings for Thailand<br />\n<a href="http://th.linkedin.com/in/robcandelino">Rob Candelino</a>\, CEO\, Unilever Thailand and Inland ASEAN<br />\n<a href="http://th.linkedin.com/in/pavida-pananond-55ab6543">Dr. Pavida Pananond</a>\, Professor of International Business\, Thammasat Business School<br />\n<a href="http://th.linkedin.com/in/pranapda-phornprapha-5422717b">Pranapda Phornprapha</a>\, Founder\, Drangonfly360\, President\, Siam Music Yamaha and VP of Business Development\, Siam Motors<br />\n<br />\n<strong>About Edelman</strong><br />\nEdelman is a global communications firm that partners with businesses and organizations to evolve\, promote and protect their brands and reputations. Our 6\,000 people in more than 60 offices deliver communications strategies that give our clients the confidence to lead and act with certainty\, earning the trust of their stakeholders. Our honors include the Cannes Lions Grand Prix for PR\; Advertising Age&#39\;s 2019 A-List\; the Holmes Report&#39\;s 2018 Global Digital Agency of the Year\; and\, five times\, Glassdoor&#39\;s Best Places to Work.&nbsp\;<br />\n<br />\n<strong>About the Trust Barometer</strong><br />\nThe 2021 Edelman Trust Barometer is the firm&#39\;s 21st annual trust and credibility survey. The survey was powered by research firm Edelman Data &amp\; Intelligence (DxI) and consisted of 30-minute online interviews conducted between October 19 and November 18\, 2020. The 2021 Edelman Trust Barometer online survey sampled more than 33\,000 respondents\, which includes 1\,150 general population respondents across 28 countries and 200 informed public respondents in each country\, except China and the U.S.\, which have a sample of 500 informed public respondents each and Nigeria which has 100 informed public respondents. All informed public respondents met the following criteria: aged 25-64\, college-educated\; household income in the top quartile for their age in their country\; read or watch business/news media at least several times a week\; follow public policy issues in the news at least several times a week. For more information\, visit <a href="https://www.edelman.com/trust-barometer">https://www.edelman.com/trust-barometer</a> &nbsp\;&nbsp\;
LOCATION:Webinar
UID:e.3314.1916
SEQUENCE:3
DTSTAMP:20260421T211913Z
URL:http://www.connect.amchamthailand.com/events/details/partner-event-with-edelman-trust-barometer-2021-thailand-launch-1916
END:VEVENT

END:VCALENDAR
