BEGIN:VCALENDAR
VERSION:2.0
PRODID:-//ChamberMaster//Event Calendar 2.0//EN
METHOD:PUBLISH
X-PUBLISHED-TTL:P3D
REFRESH-INTERVAL:P3D
CALSCALE:GREGORIAN
BEGIN:VEVENT
DTSTART:20211028T080000Z
DTEND:20211028T090000Z
X-MICROSOFT-CDO-ALLDAYEVENT:FALSE
SUMMARY:PHIST 2021- Sustainable Asia RE-defined
DESCRIPTION:Click Here to Register for the Event\n\n\n\nA Learning Event for Hotels\, Tourism and Travel\n\n\n\nThe fourth annual Asian leading sustainability-focused learning event PHIST will take place in a dynamic virtual setting on October 28th\, 2021. Live from Phuket\, Thailand with speakers from across Asia.\n\n\n\nA special main event is a one-hour plus\, high-velocity\, candid virtual conversation with leading sustainability experts. Expect a deep dive into present day trends and learn how the impact of the ongoing pandemic and beyond will undoubtedly change the travel and tourism universe we have come to know. What we now know now in a Covid-19 world is that we learn to navigate the our daily lives in an entirely new way.\n\n\n\nPHIST 2021 is an ongoing special event collaboration between the Phuket Hotels Association\, Greenview and C9 Hotelworks\, with support from the American Chamber of Commerce Thailand (AMCHAM)\, QUO\, Creative Concept AV and Delivering Asia Communications.\n\n\n\nYou can sign up now for this not-to-be-missed special event for hoteliers\, travel and tourism businesses\, hotel owners\, developers and operators\, environmental product suppliers\, NGOs\, hospitality students and media.  \n\n\n\nOn the day before PHIST 2021\, we will be presenting four\, one-hour\, topical focused environmental masterclasses that will be available free online.\n\n\n\nSpeakers \n\n    (TBA)\n\n \n\nWORKSHOPS\n\n\n	Single Use Plastic Prevention   Jayne MacDougall\, Senior Project Consultant GIZ\n	Sustainable Seafood   Maggie Lee WWF\n	Net Zero (India / London - Greenview) \n	Waste Management   Brandi Toliver US Embassy Bangkok Science Fellow \n\nCo-Hosts\n\n\n	Eric Ricaute\, Founder & CEO\, Greenview\n	Bill Barnett   Managing Director\, C9 Hotelworks\n\n\n \n\nMore information/questions:\n\nSumi Soorian\n\nDevelopment Director\n\nPhuket Hotels Association\n\nE ss@phukethotelsassociation.com\n\nt: +668 7468 8588
X-ALT-DESC;FMTTYPE=text/html:<p><a href="https://us02web.zoom.us/webinar/register/WN_o4GXyqKpTAiR9cqbWgj53Q"><font color="#000080" face="arial"><span style="font-size: 20px\;"><b>Click Here to Register for the Event</b></span></font></a><br />\n<br />\n<strong>A Learning Event for Hotels\, Tourism and Travel</strong><br />\n<br />\n<span style="color:black\;"><span style="font-family:helvetica\,sans-serif\;"><span style="font-size:10.0pt\;">The fourth annual Asian leading sustainability-focused learning event PHIST will take place in a dynamic virtual setting on&nbsp\;October 28th\, 2021. Live from Phuket\, Thailand with speakers from across Asia.</span></span></span><br />\n<br />\n<span style="color:black\;"><span style="font-family:helvetica\,sans-serif\;"><span style="font-size:10.0pt\;">A special main event is a one-hour plus\, high-velocity\, candid virtual conversation with leading sustainability experts. Expect a deep dive into present day trends and learn how the impact of the ongoing pandemic and beyond will undoubtedly change the travel and tourism universe we have come to know. What we now know now in a Covid-19 world is that we learn to navigate the our daily lives in an entirely new way.</span></span></span><br />\n<br />\n<span style="color:black\;"><span style="font-family:helvetica\,sans-serif\;"><span style="font-size:10.0pt\;">PHIST 2021 is an ongoing special event collaboration between the Phuket Hotels Association\, Greenview and C9 Hotelworks\, with support from the American Chamber of Commerce Thailand (AMCHAM)\, QUO\, Creative Concept AV and Delivering Asia Communications.</span></span></span><br />\n<br />\n<span style="color:black\;"><span style="font-family:helvetica\,sans-serif\;"><span style="font-size:10.0pt\;">You can sign up now for this not-to-be-missed special event for hoteliers\, travel and tourism businesses\, hotel owners\, developers and operators\, environmental product suppliers\, NGOs\, hospitality students and media. &nbsp\;</span></span></span><br />\n<br />\n<span style="color:black\;"><span style="font-family:helvetica\,sans-serif\;"><span style="font-size:10.0pt\;">On the day before PHIST 2021\, we will be presenting four\, one-hour\, topical focused environmental masterclasses that will be available free online.</span></span></span><br />\n<br />\n<strong><span style="color:black\;"><span style="font-family:helvetica\,sans-serif\;"><span style="font-size:10.0pt\;">Speakers</span></span></span></strong>&nbsp\;<br />\n<span style="color:black\;"><span style="font-family:symbol\;"><span style="font-size:10.0pt\;">&middot\;</span></span></span>&nbsp\;&nbsp\;&nbsp\;<strong><span style="color:black\;"><span style="font-family:helvetica\,sans-serif\;"><span style="font-size:10.0pt\;">(TBA)</span></span></span></strong><br />\n&nbsp\;<br />\n<strong><span style="color:black\;"><span style="font-family:helvetica\,sans-serif\;"><span style="font-size:10.0pt\;">WORKSHOPS</span></span></span></strong></p>\n\n<ol>\n	<li style="text-autospace:none\;"><span style="font-family:helvetica\,sans-serif\;"><span style="font-size:10.0pt\;">Single Use Plastic Prevention &ndash\; Jayne MacDougall\, Senior Project Consultant GIZ</span></span></li>\n	<li style="text-autospace:none\;"><span style="font-family:helvetica\,sans-serif\;"><span style="font-size:10.0pt\;">Sustainable Seafood &ndash\; Maggie Lee WWF</span></span></li>\n	<li style="text-autospace:none\;"><span style="font-family:helvetica\,sans-serif\;"><span style="font-size:10.0pt\;">Net Zero (India / London - Greenview) </span></span></li>\n	<li><span style="font-family:helvetica\,sans-serif\;"><span style="font-size:10.0pt\;">Waste Management &ndash\; Brandi Toliver US Embassy Bangkok Science Fellow </span></span></li>\n</ol>\n<strong><span style="color:black\;"><span style="font-family:helvetica\,sans-serif\;"><span style="font-size:10.0pt\;">Co-Hosts</span></span></span></strong>\n\n<ul>\n	<li><strong><span style="color:black\;"><span style="font-family:helvetica\,sans-serif\;"><span style="font-size:10.0pt\;">Eric Ricaute\,</span></span></span></strong><span style="color:black\;"><span style="font-family:helvetica\,sans-serif\;"><span style="font-size:10.0pt\;"> Founder &amp\; CEO\, Greenview</span></span></span></li>\n	<li><strong><span style="color:black\;"><span style="font-family:helvetica\,sans-serif\;"><span style="font-size:10.0pt\;">Bill Barnett</span></span></span></strong><span style="color:black\;"><span style="font-family:helvetica\,sans-serif\;"><span style="font-size:10.0pt\;"> &ndash\; Managing Director\, C9 Hotelworks</span></span></span></li>\n</ul>\n\n<p>&nbsp\;<br />\n<strong><span style="color:black\;"><span style="font-family:helvetica\,sans-serif\;"><span style="font-size:10.0pt\;">More information/questions:</span></span></span></strong><br />\n<span style="font-size:10.0pt\;">Sumi Soorian<br />\nDevelopment Director<br />\nPhuket Hotels Association</span><br />\n<span style="color:black\;"><span style="font-family:helvetica\,sans-serif\;"><span style="font-size:10.0pt\;">E </span></span></span><u><span style="color:blue\;"><span style="font-family:helvetica\,sans-serif\;"><span style="font-size:10.0pt\;">ss@phukethotelsassociation.com</span></span></span></u><br />\n<span style="color:black\;"><span style="font-family:helvetica\,sans-serif\;"><span style="font-size:10.0pt\;">t: +668 7468 8588</span></span></span></p>\n
LOCATION:Webinar: Zoom
UID:e.3314.1996
SEQUENCE:3
DTSTAMP:20260421T143051Z
URL:http://www.connect.amchamthailand.com/events/details/phist-2021-sustainable-asia-re-defined-1996
END:VEVENT

END:VCALENDAR
