BEGIN:VCALENDAR
VERSION:2.0
PRODID:-//ChamberMaster//Event Calendar 2.0//EN
METHOD:PUBLISH
X-PUBLISHED-TTL:P3D
REFRESH-INTERVAL:P3D
CALSCALE:GREGORIAN
BEGIN:VEVENT
DTSTART:20220926T020000Z
DTEND:20220926T120000Z
X-MICROSOFT-CDO-ALLDAYEVENT:FALSE
SUMMARY:Phuket Hotels for Islands Sustaining Tourism (PHIST 5)
DESCRIPTION:Please note that this event is hosted by Phuket Hotels Association and event requirements may differ from AMCHAM. Clicking the link will bring you to their registration page and away from the AMCHAM website.\n\nREGISTER NOW\n\n\n\nA Learning Event for Hotels\, Tourism and Travel\n\n\n\nThe fifth annual Asian leading sustainability-focused learning event PHIST 5 will take place in a dynamic in-person setting on Monday\, September 26\, 2022. Live and in-person from Phuket\, Thailand with speakers from across Asia.\n\n\n\nThe special main event is a 90-minute\, high-velocity\, candid in-person conversation with leading sustainability experts. Expect a deep dive into present-day trends and learn how the impact of the ongoing pandemic and beyond will undoubtedly change the travel and tourism universe we have come to know. What we now know now in a Covid-19 world is that we learn to navigate our daily lives in an entirely new way.\n\n\n\nPHIST 5 is an ongoing special event collaboration between the Phuket Hotels Association\, Greenview\, and C9 Hotelworks\, with support from the American Chamber of Commerce in Thailand (AMCHAM)\, QUO\, Creative Concept AV\, and Delivering Asia Communications.\n\n\n\nYou can sign up now for this not-to-be-missed special event for hoteliers\, travel and tourism businesses\, hotel owners\, developers and operators\, environmental product suppliers\, NGOs\, hospitality students\, and media.\n\n\n\nThere will be four\, one-hour\, topical focused environmental masterclasses that will be available on the day. Watch the teaser video here.\n\n\n\nCo-Hosts:\n\n\n\n  Eric Ricaute\, Founder & CEO\, Greenview\n\n  Bill Barnett   Managing Director\, C9 Hotelworks\n\n---------------------------------------------------------------------------------------\n\nEVENT PROGRAM\n\n9 am to 5:30 pm         Registration Open                                                                                             \n\nGREEN GROOVE Exhibition opens       \n\n10 am to 12 pm          Morning Session Workshops                                 \n\n12 pm to 1:30 pm       Lunch farm-to-table\n\n1:30 pm to 3 pm         Press Conference Afternoon Session\n\n1:30 pm to 2:30 pm    Afternoon Session Workshops\n\n2:30 pm to 3:30 pm    Pre   event warm up by Muay Thai Performance Pitch (45 minutes)\n\n3:30 pm to 5:30 pm    Afternoon Main Event\n\n5:30 pm to 7 pm         Networking Cocktails\n\n------------------------------------------------------------------------------- \n\nRegistration Attendance is complimentary. Advance registration is required and only those with confirmed Eventbrite registration QR codes along with supporting documentation for at least two (2) vaccinations will be allowed entry. Registered delegates are also requested to follow SHA guidelines.
X-ALT-DESC;FMTTYPE=text/html:<p>Please note that this event is hosted by Phuket Hotels Association&nbsp\;and event requirements may&nbsp\;differ from AMCHAM. Clicking the link will bring you to their registration page and away from the AMCHAM website.</p>\n\n<p><span style="font-size:18px\;"><a href="https://www.eventbrite.com/e/phuket-hotels-for-islands-sustaining-tourism-phist-5-tickets-300536220927"><span style="font-family:arial\;"><strong><span style="color:#000080\;">REGISTER NOW</span></strong></span></a></span><br />\n<br />\n<strong>A Learning Event for Hotels\, Tourism and Travel</strong><br />\n<br />\nThe fifth annual Asian leading sustainability-focused learning event PHIST 5 will take place in a dynamic in-person setting on Monday\, September 26\,&nbsp\;2022. Live and in-person from Phuket\, Thailand with speakers from across Asia.<br />\n<br />\nThe special main event is a 90-minute\, high-velocity\, candid in-person conversation with leading sustainability experts. Expect a deep dive into present-day trends and learn how the impact of the ongoing pandemic and beyond will undoubtedly change the travel and tourism universe we have come to know. What we now know now in a Covid-19 world is that we learn to navigate our daily lives in an entirely new way.<br />\n<br />\nPHIST 5 is an ongoing special event collaboration between the <a href="https://www.phukethotelsassociation.com/" target="_blank">Phuket Hotels Association</a>\, <a href="https://greenview.sg/" target="_blank">Greenview</a>\, and <a href="https://www.c9hotelworks.com/" target="_blank">C9 Hotelworks</a>\, with support from the <a href="https://www.amchamthailand.com/" target="_blank">American Chamber of Commerce in Thailand (AMCHAM)</a>\, <a href="https://www.quo-global.com/" target="_blank">QUO</a>\, <a href="https://inspiredintl.com/" target="_blank">Creative Concept AV</a>\, and Delivering Asia Communications.<br />\n<br />\nYou can sign up now for this not-to-be-missed special event for hoteliers\, travel and tourism businesses\, hotel owners\, developers and operators\, environmental product suppliers\, NGOs\, hospitality students\, and media.<br />\n<br />\nThere will be four\, one-hour\, topical focused environmental masterclasses that will be available on the day. Watch the teaser video <a href="https://www.dropbox.com/s/52vrzyk8unhcv4o/PHIST%202022%20Teaser_V2.mov?dl=0">here</a>.<br />\n<br />\n<strong>Co-Hosts:</strong><br />\n<br />\n&bull\; <a href="https://www.linkedin.com/in/ericricaurte/?msclkid=49ae792ea67711ecb79a4460fd21b309&amp\;originalSubdomain=sg" target="_blank"><strong>Eric Ricaute</strong></a>\, Founder &amp\; CEO\, Greenview<br />\n&bull\; <a href="https://www.linkedin.com/in/barnettbill/" target="_blank"><strong>Bill Barnett</strong></a> &ndash\; Managing Director\, C9 Hotelworks</p>\n\n<p>---------------------------------------------------------------------------------------</p>\n\n<p><strong>EVENT PROGRAM</strong></p>\n\n<p style="margin-top:0in\;margin-right:0in\;margin-bottom:11.25pt\;margin-left:\n0in\;line-height:18.0pt\;background:white">9&nbsp\;am to 5:30 pm &nbsp\; &nbsp\; &nbsp\; &nbsp\; Registration Open &nbsp\; &nbsp\; &nbsp\; &nbsp\; &nbsp\; &nbsp\; &nbsp\; &nbsp\; &nbsp\; &nbsp\; &nbsp\; &nbsp\; &nbsp\; &nbsp\; &nbsp\; &nbsp\; &nbsp\; &nbsp\; &nbsp\; &nbsp\; &nbsp\; &nbsp\; &nbsp\; &nbsp\; &nbsp\; &nbsp\; &nbsp\; &nbsp\; &nbsp\; &nbsp\; &nbsp\; &nbsp\; &nbsp\; &nbsp\; &nbsp\; &nbsp\; &nbsp\; &nbsp\; &nbsp\; &nbsp\; &nbsp\; &nbsp\; &nbsp\; &nbsp\; &nbsp\; &nbsp\;&nbsp\;<br />\nGREEN GROOVE Exhibition opens &nbsp\; &nbsp\; &nbsp\;&nbsp\;<br />\n10&nbsp\;am to 12&nbsp\;pm&nbsp\; &nbsp\; &nbsp\; &nbsp\; &nbsp\; Morning Session Workshops &nbsp\; &nbsp\; &nbsp\; &nbsp\; &nbsp\; &nbsp\; &nbsp\; &nbsp\; &nbsp\; &nbsp\; &nbsp\; &nbsp\; &nbsp\; &nbsp\; &nbsp\; &nbsp\;&nbsp\;<br />\n12&nbsp\;pm to 1:30 pm&nbsp\; &nbsp\; &nbsp\; &nbsp\;Lunch farm-to-table<br />\n1:30 pm to 3&nbsp\;pm&nbsp\; &nbsp\; &nbsp\; &nbsp\; &nbsp\;Press Conference Afternoon Session<br />\n1:30 pm to 2:30 pm &nbsp\; &nbsp\;Afternoon Session Workshops<br />\n2:30 pm to 3:30 pm &nbsp\; &nbsp\;Pre &ndash\; event warm up by Muay Thai Performance Pitch (45 minutes)<br />\n3:30 pm to 5:30 pm &nbsp\; &nbsp\;Afternoon Main Event<br />\n5:30 pm to 7&nbsp\;pm&nbsp\; &nbsp\; &nbsp\; &nbsp\; &nbsp\;Networking Cocktails</p>\n\n<p>-------------------------------------------------------------------------------&nbsp\;<br />\nRegistration Attendance is complimentary. Advance registration is required and only those with confirmed Eventbrite registration QR codes along with supporting documentation for at least two (2) vaccinations will be allowed entry. Registered delegates are also requested to follow SHA guidelines.</p>\n
LOCATION:Angsana Convention & Exhibition Space\, Angsana Laguna Phuket.
UID:e.3314.2251
SEQUENCE:3
DTSTAMP:20260420T180459Z
URL:http://www.connect.amchamthailand.com/events/details/phuket-hotels-for-islands-sustaining-tourism-phist-5-2251
END:VEVENT

END:VCALENDAR
