BEGIN:VCALENDAR
VERSION:2.0
PRODID:-//ChamberMaster//Event Calendar 2.0//EN
METHOD:PUBLISH
X-PUBLISHED-TTL:P3D
REFRESH-INTERVAL:P3D
CALSCALE:GREGORIAN
BEGIN:VEVENT
DTSTART:20201203T030000Z
DTEND:20201204T140000Z
X-MICROSOFT-CDO-ALLDAYEVENT:FALSE
SUMMARY:Phuket SMART Link
DESCRIPTION:REGISTER NOW\n\n\n\nWe are pleased to announce Phuket SMART Link: a two-day business forum providing insightful information about Phuket\, helping you identify new business opportunities and connecting you with Thai business communities in Phuket and the Southern region.  \n\n \n\nPhuket SMART Link aims at reviving Phuket's economy\, presenting multiple opportunities in Phuket and raising awareness of Phuket as a business platform where most people may not be aware of.\n\n\n\nProgram in detail\n\n\n\nAgenda: \n\nDecember 3rd - Site visits + Start-up Pitchings + Business Forum + Networking Event\n\nDecember 4th - Inspirational talks + Leisure visits + Networking Dinner\n\n \n\nOrganised by : Franco-Thai Chamber of Commerce (FTCC)\n\nSupported by : TCEB\, TAT\, DEPA\, AMCHAM Thailand\n\nEndorsed by: JFCCT\, EABC\, FTI\, Board of Trade of Thailand\n\n \n\nLocal partners: Phuket City\, PKCD\, Phuket Chamber of Commerce\, Phuket Tourist Association\, The Living Arts Gallery\, the Ocean for All Foundation
X-ALT-DESC;FMTTYPE=text/html:<p><a href="https://docs.google.com/forms/d/e/1FAIpQLSc7eJ7tgwN1z04R-HLblNMf7qWTTIPey6zUiXwpb7ZwcmfZ7g/viewform" target="_blank"><span style="font-size:14px\;"><strong>REGISTER NOW</strong></span></a><br />\n<br />\nWe are pleased to announce&nbsp\;Phuket&nbsp\;SMART&nbsp\;Link: a two-day business forum providing insightful information about Phuket\, helping you identify new business opportunities and connecting you with Thai business communities in&nbsp\;Phuket&nbsp\;and the Southern region.&nbsp\;&nbsp\;<br />\n&nbsp\;<br />\nPhuket&nbsp\;SMART&nbsp\;Link&nbsp\;aims at reviving&nbsp\;Phuket&rsquo\;s economy\, presenting multiple opportunities in&nbsp\;Phuket&nbsp\;and raising awareness of&nbsp\;Phuket&nbsp\;as a business platform where most people may not be aware of.<br />\n<br />\n<a href="https://drive.google.com/file/d/1jW2nsvJ79TdkAaibE3ljc99yq02fx9U5/view?usp=sharing" target="_blank">Program&nbsp\;in detail</a><br />\n<br />\nAgenda:&nbsp\;<br />\nDecember 3rd - Site visits&nbsp\;+ Start-up Pitchings&nbsp\;+ Business Forum&nbsp\;+ Networking Event<br />\nDecember 4th - Inspirational talks&nbsp\;+ Leisure visits&nbsp\;+ Networking Dinner<br />\n&nbsp\;<br />\nOrganised by&nbsp\;: Franco-Thai Chamber of Commerce (FTCC)<br />\nSupported by&nbsp\;: TCEB\, TAT\, DEPA\, AMCHAM Thailand<br />\nEndorsed by: JFCCT\, EABC\, FTI\, Board of Trade of Thailand<br />\n&nbsp\;<br />\nLocal partners: Phuket City\, PKCD\, Phuket Chamber of Commerce\, Phuket Tourist Association\, The Living Arts Gallery\, the Ocean for All Foundation</p>\n
LOCATION:Different locations around the island
UID:e.3314.1772
SEQUENCE:3
DTSTAMP:20260422T075835Z
URL:http://www.connect.amchamthailand.com/events/details/phuket-smart-link-1772
END:VEVENT

END:VCALENDAR
