BEGIN:VCALENDAR
VERSION:2.0
PRODID:-//ChamberMaster//Event Calendar 2.0//EN
METHOD:PUBLISH
X-PUBLISHED-TTL:P3D
REFRESH-INTERVAL:P3D
CALSCALE:GREGORIAN
BEGIN:VEVENT
DTSTART:20221020T110000Z
DTEND:20221020T140000Z
X-MICROSOFT-CDO-ALLDAYEVENT:FALSE
SUMMARY:Postponed: Joint Chambers Phuket Sundowners hosted by AustCham
DESCRIPTION:Please note that this event is hosted by Australian Chamber and event requirements may differ from AMCHAM. Clicking the link will bring you to their registration page and away from the AMCHAM website.\n\nREGISTER NOW\n\n\n\nAustCham Thailand\, in collaboration with Australian Alumni\, American Chamber of Commerce in Thailand (AMCHAM)\, British Chamber of Commerce Thailand (BCCT)\, Belgian-Luxembourg/Thai Chamber of Commerce\, CanCham Thailand\, Franco-Thai Chamber of Commerce (FTCC)\, German-Thai Chamber of Commerce (GTCC)\, Netherlands-Thai Chamber of Commerce (NTCC)\, Phuket Chamber of Commerce and Thai-Swedish Chamber of Commerce\, invite you to join us for Phuket Sundowners at SAii Laguna Phuket\, on Thursday 20 October 2022 \, from 18.00-21.00 hrs.\n\n\n\nSAii Laguna Phuket is an exceptional resort destination nestled on Bangtao Beach\, one of Thailand's most exquisite beaches. Its lush\, tropical gardens open to a tranquil lagoon\, just a few steps from the Andaman Sea. Here\, signature Thai hospitality\, sensory aesthetics and sublime dining experiences combine to provide postcard-perfect memories in the heart of Phuket's Laguna community\, with its bounty of natural\, cultural\, and culinary attractions.\n\n\n\nJoin us for a wonderful night of making new connections and catching up with familiar faces in the Australian-Thai business community. As well as\, getting to know and learn from our corporate sponsors Silk Legal\, a boutique law firm based that specializes in commercial transaction\, foreign direct investment\, technology\, blockchain and artificial intelligence.
X-ALT-DESC;FMTTYPE=text/html:<p>Please note that this event is hosted by Australian Chamber&nbsp\;and event requirements may&nbsp\;differ from AMCHAM. Clicking the link will bring you to their registration page and away from the AMCHAM website.</p>\n\n<p><a href="https://www.austchamthailand.com/event/20-oct-joint-chambers-phuket-sundowners-hosted-by-austcham-2/"><span style="font-size:16px\;"><span style="font-family:arial\;"><strong><span style="color:#000080\;">REGISTER NOW</span></strong></span></span></a><br />\n<br />\nAustCham Thailand\, in collaboration with Australian Alumni\, American Chamber of Commerce in Thailand (AMCHAM)\, British Chamber of Commerce Thailand (BCCT)\, Belgian-Luxembourg/Thai Chamber of Commerce\, CanCham Thailand\, Franco-Thai Chamber of Commerce (FTCC)\, German-Thai Chamber of Commerce (GTCC)\, Netherlands-Thai Chamber of Commerce (NTCC)\, Phuket Chamber of Commerce and Thai-Swedish Chamber of Commerce\, invite you to join us for Phuket Sundowners at SAii Laguna Phuket\, on Thursday 20 October 2022 \, from 18.00-21.00 hrs.<br />\n<br />\nSAii Laguna Phuket is an exceptional resort destination nestled on Bangtao Beach\, one of Thailand&rsquo\;s most exquisite beaches. Its lush\, tropical gardens open to a tranquil lagoon\, just a few steps from the Andaman Sea. Here\, signature Thai hospitality\, sensory aesthetics and sublime dining experiences combine to provide postcard-perfect memories in the heart of Phuket&rsquo\;s Laguna community\, with its bounty of natural\, cultural\, and culinary attractions.<br />\n<br />\nJoin us for a wonderful night of making new connections and catching up with familiar faces in the Australian-Thai business community. As well as\, getting to know and learn from our corporate sponsors Silk Legal\, a boutique law firm based that specializes in commercial transaction\, foreign direct investment\, technology\, blockchain and artificial intelligence.</p>\n
LOCATION:SAii Laguna Phuket
UID:e.3314.2303
SEQUENCE:3
DTSTAMP:20260420T142219Z
URL:http://www.connect.amchamthailand.com/events/details/postponed-joint-chambers-phuket-sundowners-hosted-by-austcham-2303
END:VEVENT

END:VCALENDAR
