BEGIN:VCALENDAR
VERSION:2.0
PRODID:-//ChamberMaster//Event Calendar 2.0//EN
METHOD:PUBLISH
X-PUBLISHED-TTL:P3D
REFRESH-INTERVAL:P3D
CALSCALE:GREGORIAN
BEGIN:VEVENT
DTSTART:20210422T110000Z
DTEND:20210422T140000Z
X-MICROSOFT-CDO-ALLDAYEVENT:FALSE
SUMMARY:Postponed: YPC Committee: Managing Finance Like A Boss!
DESCRIPTION:How well do you know your company's financial position? Do you find the subject of finance complicated or not your responsibility? Ours speaker for the next "Like a Boss" Young Professionals Committee (YPC) event will guide you through the fascinating subject of Corporate Finance and how it intertwines with every industry.\n\n\n\nJoin us on April 22 to learn about the basics of Corporate Finance and how a global investment bank and one of Thailand's largest publicly-listed companies pulled through the Covid-19 recession. This will be a highly interactive event and you will be given the opportunity to ask relevant questions to our speakers. You will learn the key considerations behind pivotal financial decisions that both the speakers have taken over the course of their career.\n\n\n\nAll the proceeds from this event will go directly to our Adopt-A-School Program\, where we actively seek out ways to support children in rural areas of Thailand to achieve a brighter future. If you would like to make direct donations to this fund\, then please reach out to our YPC Leaders Trent\, Eliot\, Boat or their AMCHAM coordinator Petch. \n\n \n\nAgenda\n\n \n\n6:00 Registration\n\n6:20 Opening Remarks\n\n6:30 Speakers Presentation\n\n7:30 Q & A from the audience\n\n7:45 Lucky Draw\n\n8:00 Closing Remarks \n\n \nOur Speakers:\n\n\n	Chanin Winayanuwattikun\, Vice President\, Global Corporate and Investment Banking\, Bank of America\n	\n\n	Sinthu Satawiriya\, Manager\, Cash and Liquidity Management\, PTT Exploration and Production Pcl.
X-ALT-DESC;FMTTYPE=text/html:<div font-size:="" open="">How well do you know your company&#39\;s financial position? Do you find the subject of finance complicated or not your responsibility? Ours speaker for the next &quot\;Like a Boss&quot\; Young Professionals Committee (YPC) event will guide you through the fascinating subject of Corporate Finance and how it intertwines with every industry.<br />\n<br />\nJoin us on April 22 to learn about the basics of Corporate Finance and how a global investment bank and one of Thailand&#39\;s largest publicly-listed companies pulled through the Covid-19 recession.&nbsp\;This will be a highly interactive event and you will be given the opportunity to ask relevant questions to our speakers. You will learn the key considerations behind pivotal financial decisions that both the speakers have taken over the course of their career.<br />\n<br />\nAll the proceeds from this event will go directly to our Adopt-A-School Program\, where we actively seek out ways to support children in rural areas of Thailand to achieve a brighter future. If you would like to make direct donations to this fund\, then please reach out to our YPC Leaders Trent\, Eliot\, Boat or their AMCHAM coordinator Petch.&nbsp\;<br />\n<span style="font-family:arial\;">&nbsp\;</span><br />\n<u>Agenda</u><br />\n&nbsp\;<br />\n6:00 Registration<br />\n6:20 Opening Remarks<br />\n6:30 Speakers Presentation<br />\n7:30 Q &amp\; A from the audience<br />\n7:45 Lucky Draw<br />\n8:00 Closing Remarks&nbsp\;<br />\n&nbsp\;\n<p>Our Speakers:</p>\n\n<ul>\n	<li font-size:="" open=""><span style="font-size:14px\;"><span style="font-family:arial\;"><a href="https://www.linkedin.com/in/chaninwinayanuwattikun/">Chanin Winayanuwattikun</a>\, </span></span>Vice President\, Global Corporate and Investment Banking\, Bank of America</li>\n	<br />\n	<li font-size:="" open=""><span style="font-size:14px\;"><span style="font-family:arial\;"><a href="https://www.linkedin.com/in/sinthu-satawiriya-99a5a564/">Sinthu Satawiriya</a>\, </span></span>Manager\, Cash and Liquidity Management\, PTT Exploration and Production Pcl.</li>\n</ul>\n</div>\n
LOCATION:Secret Garden room\, The Athenee Hotel\, a Luxury Collection Hotel\, Bangkok Bangkok Wireless Road BTS Ploenchit
UID:e.3314.1869
SEQUENCE:3
DTSTAMP:20260422T010759Z
URL:http://www.connect.amchamthailand.com/events/details/postponed-ypc-committee-managing-finance-like-a-boss-1869
END:VEVENT

END:VCALENDAR
