BEGIN:VCALENDAR
VERSION:2.0
PRODID:-//ChamberMaster//Event Calendar 2.0//EN
METHOD:PUBLISH
X-PUBLISHED-TTL:P3D
REFRESH-INTERVAL:P3D
CALSCALE:GREGORIAN
BEGIN:VEVENT
DTSTART:20220830T070000Z
DTEND:20220830T080000Z
X-MICROSOFT-CDO-ALLDAYEVENT:FALSE
SUMMARY:Preparatory Meeting for Consultation on the Protection and Enforcement of Intellectual Property Rights
DESCRIPTION:You are invited to join this meeting in preparation for our meeting with the Department of Intellectual Property (DIP) on Sep 6\, 2022\, at 1.30 pm. Please note that you must attend the pre-meeting in order to participate in the consultation meeting on the Protection and Enforcement of Intellectual Property Rights with the DIP.\n\n \n\nWe will align on talking points for the consultation. Please come prepared to concisely update the DIP on your industry's sentiment towards the work of the department in both registering and protecting intellectual property in Thailand.
X-ALT-DESC;FMTTYPE=text/html:You are invited to join this meeting in preparation for our meeting with the Department of Intellectual Property (DIP) on Sep 6\, 2022\, at 1.30 pm. Please note that you must attend the pre-meeting in order to participate in the consultation meeting on the Protection and Enforcement of Intellectual Property Rights&nbsp\;with the DIP.<br />\n&nbsp\;<br />\nWe will align on talking points for the consultation. Please come prepared to concisely update the DIP on your industry&rsquo\;s sentiment towards the work of the department in both registering and protecting intellectual property in Thailand.
LOCATION:Video Conference
UID:e.3314.2269
SEQUENCE:3
DTSTAMP:20260420T180721Z
URL:http://www.connect.amchamthailand.com/events/details/preparatory-meeting-for-consultation-on-the-protection-and-enforcement-of-intellectual-property-rights-2269
END:VEVENT

END:VCALENDAR
