BEGIN:VCALENDAR
VERSION:2.0
PRODID:-//ChamberMaster//Event Calendar 2.0//EN
METHOD:PUBLISH
X-PUBLISHED-TTL:P3D
REFRESH-INTERVAL:P3D
CALSCALE:GREGORIAN
BEGIN:VEVENT
DTSTART:20220321T020000Z
DTEND:20220321T030000Z
X-MICROSOFT-CDO-ALLDAYEVENT:FALSE
SUMMARY:Preparatory Meeting Regarding the Department of Intellectual Property (DIP)
DESCRIPTION:You are invited to join this meeting in preparation for our meeting with the Department of Intellectual Property (DIP) on March 30 at 13:30. Please note that you must attend the pre-meeting in order to attend the consultation meeting with the DIP.\n\n \n\nWe will align on talking points for the consultation. Please come prepared to concisely update the DIP on your industry's sentiment towards the work of the department in both registering and protecting intellectual property in Thailand.
X-ALT-DESC;FMTTYPE=text/html:You are invited to join this meeting in preparation for our meeting with the Department of Intellectual Property (DIP) on March 30 at 13:30. Please note that you must attend the pre-meeting in order to attend the consultation meeting with the DIP.<br />\n&nbsp\;<br />\nWe will align on talking points for the consultation. Please come prepared to concisely update the DIP on your industry&rsquo\;s sentiment towards the work of the department in both registering and protecting intellectual property in Thailand.<span style="font-size:11.0pt\;"> </span>
LOCATION:Video conference
UID:e.3314.2168
SEQUENCE:3
DTSTAMP:20260421T052034Z
URL:http://www.connect.amchamthailand.com/events/details/preparatory-meeting-regarding-the-department-of-intellectual-property-dip-2168
END:VEVENT

END:VCALENDAR
