BEGIN:VCALENDAR
VERSION:2.0
PRODID:-//ChamberMaster//Event Calendar 2.0//EN
METHOD:PUBLISH
X-PUBLISHED-TTL:P3D
REFRESH-INTERVAL:P3D
CALSCALE:GREGORIAN
BEGIN:VEVENT
DTSTART:20201216T003000Z
DTEND:20201216T013000Z
X-MICROSOFT-CDO-ALLDAYEVENT:FALSE
SUMMARY:Regional Comprehensive Economic Partnership (RCEP)
DESCRIPTION:REGISTER NOW\n\n\n\n\n\nThe Regional Comprehensive Economic Partnership (RCEP) is the latest and largest of multilateral agreements to be signed.\n\n\n	What does it actually mean for the supply chains that traverse through\, in and around Asia?\n	Does it signal the possible resurgence of a new age of cooperation and use of multilateralism?\n	What opportunities will it uncover and where are the pitfalls for U.S. companies operating in the region or have links to it?\n\nJoin the discussion on Wednesday\,  December 16 at 8:30 AM for a closer look at what lies within the 14\,000+ page document that was nine years in the making.\n\n \n\nAGENDA:\n\nFeatured Speaker:\n\n	Deborah Elms\, Executive Director\, Asian Trade Centre\, Singapore\n\nPanel Discussion\n\nMODERATOR: John Goyer\, Senior Director\, Southeast Asia\, U.S. Chamber of Commerce\, Washington DC\n\n	Mario Palacios\, Sr. Managing Director\, International Trade Policy of Intel Corporation\, Washington DC\n	ShuiMei Lin\, Vice President\, Public Affairs & Sustainability \, UPS Asia Pacific\, Singapore
X-ALT-DESC;FMTTYPE=text/html:<p><strong><a href="https://amcham-malaysia.glueup.com/event/regional-comprehensive-economic-partnership-rcep-30280/register/?pk_campaign=Discussion:%20Regional%20Comprehensive%20Economic%20Partnership%20(RCEP)&amp\;pk_cid=62178&amp\;pk_kwd=62178&amp\;pk_medium=event-campaign">REGISTER NOW</a></strong><br />\n<br />\n<br />\nThe Regional Comprehensive Economic Partnership (RCEP) is the latest and largest of multilateral agreements to be signed.</p>\n\n<ul>\n	<li>What does it actually mean for the supply chains that traverse through\, in and around Asia?</li>\n	<li>Does it signal the possible resurgence of a new age of cooperation and use of multilateralism?</li>\n	<li>What opportunities will it uncover and where are the pitfalls for U.S. companies operating in the region or have links to it?</li>\n</ul>\nJoin the discussion on Wednesday\,&nbsp\; December 16 at 8:30 AM for a closer look at what lies within the 14\,000+ page document that was nine years in the making.<br />\n&nbsp\;<br />\nAGENDA:<br />\nFeatured Speaker:\n<ul>\n	<li>Deborah Elms\, Executive Director\, Asian Trade Centre\, Singapore</li>\n</ul>\nPanel Discussion<br />\nMODERATOR: John Goyer\, Senior Director\, Southeast Asia\, U.S. Chamber of Commerce\, Washington DC\n<ul>\n	<li>Mario Palacios\, Sr. Managing Director\, International Trade Policy of Intel Corporation\, Washington DC</li>\n	<li>ShuiMei Lin\, Vice President\, Public Affairs &amp\; Sustainability \, UPS Asia Pacific\, Singapore</li>\n</ul>\n\n<p>&nbsp\;<br />\n&nbsp\;</p>\n
LOCATION:Video Conference
UID:e.3314.1806
SEQUENCE:3
DTSTAMP:20260422T080021Z
URL:http://www.connect.amchamthailand.com/events/details/regional-comprehensive-economic-partnership-rcep-1806
END:VEVENT

END:VCALENDAR
