BEGIN:VCALENDAR
VERSION:2.0
PRODID:-//ChamberMaster//Event Calendar 2.0//EN
METHOD:PUBLISH
X-PUBLISHED-TTL:P3D
REFRESH-INTERVAL:P3D
CALSCALE:GREGORIAN
BEGIN:VEVENT
DTSTART:20211118T030000Z
DTEND:20211118T040000Z
X-MICROSOFT-CDO-ALLDAYEVENT:FALSE
SUMMARY:Meeting with Prime Minister H.E. General Prayut Chan-O-Cha (Rescheduled)
DESCRIPTION:AMCHAM Thailand is deeply honored to welcome the Prime Minister\, H.E. General Prayut Chan-o-cha to virtually address our membership.\n\n\n\nAfter highlighting major achievements from the National Economic and Social Development Plan (2017-2021)\, including efforts made to improve ease of doing business in the Kingdom\, the Prime Minister will address the AMCHAM membership on priorities for the new agenda from 2022-2026\, with a focus on digital transformation\, the aging society and preventative healthcare\, renewable energy\, and Sustainable Development Goals for Thailand.\n\n\n\nPlease join the AMCHAM President\, Board of Governors\, and general membership to welcome our distinguished guest.
X-ALT-DESC;FMTTYPE=text/html:<div apple="" color="" font-size:="" segoe="" span="" ui="">AMCHAM Thailand is deeply honored to welcome the Prime Minister\, H.E. General Prayut Chan-o-cha to virtually address our membership.<br />\n<br />\nAfter highlighting major achievements from the National Economic and Social Development Plan (2017-2021)\, including efforts made to improve ease of doing business in the Kingdom\, the Prime Minister will address the AMCHAM membership on priorities for the new agenda from 2022-2026\, with a focus on digital transformation\, the aging society and preventative healthcare\, renewable energy\, and Sustainable Development Goals for Thailand.<br />\n<br />\nPlease join the AMCHAM President\, Board of Governors\, and general membership to welcome our distinguished guest.</div>\n
LOCATION:Webinar
UID:e.3314.1993
SEQUENCE:3
DTSTAMP:20260421T123631Z
URL:http://www.connect.amchamthailand.com/events/details/reschedule-meeting-with-prime-minister-h-e-general-prayut-chan-o-cha-1993
END:VEVENT

END:VCALENDAR
