BEGIN:VCALENDAR
VERSION:2.0
PRODID:-//ChamberMaster//Event Calendar 2.0//EN
METHOD:PUBLISH
X-PUBLISHED-TTL:P3D
REFRESH-INTERVAL:P3D
CALSCALE:GREGORIAN
BEGIN:VEVENT
DTSTART:20221007T053000Z
DTEND:20221007T073000Z
X-MICROSOFT-CDO-ALLDAYEVENT:FALSE
SUMMARY:Rescheduled - Member Luncheon with Bangkok Governor Chadchart Sittipunt
DESCRIPTION:AMCHAM is honored to host distinguished guest speaker\, Bangkok Governor Chadchart Sittipunt\, who will address members at our Luncheon on October 5. Governor Chadchart will offer his thoughts regarding the private sector role in Bangkok's policies to create inclusive and sustainable development\, as well as potential collaborations between AMCHAM members and the Bangkok Metropolitan Administration.\n\n \n\nAbout the Speaker\n\n\n\nBangkok Governor Chadchart Sittipunt has a career which spans public service\, the private sector\, and academia. Prior to taking his current office\, Chadchart served as CEO and Managing Director of Quality Houses Public Company Limited (Q-House). Previously\, he has served as Minister of Transportation from 2012 to 2014\, where he initiated critical infrastructure projects such as high-speed trend infrastructure at the Central Bang Sue station and extended dark red-line electric trains to support commuters. He began his career as Associate Professor at the Faculty of Engineering\, Chulalongkorn University. Chadchart holds a Bachelor of Civil Engineering with first-class honors from Chulalongkorn University\, a Master of Structural Engineering from Massachusetts Institute of Technology (MIT)\, and a doctorate in Engineering from University of Illinois\, Urbana-Champaign.
X-ALT-DESC;FMTTYPE=text/html:<p>AMCHAM is&nbsp\;honored to host distinguished guest speaker\, Bangkok Governor Chadchart&nbsp\;Sittipunt\, who will address members at our Luncheon on October 5.&nbsp\;Governor Chadchart will offer his thoughts regarding the private sector role&nbsp\;in Bangkok&#39\;s policies to create inclusive and sustainable development\, as well as potential collaborations between AMCHAM members and the Bangkok Metropolitan Administration.<br />\n&nbsp\;<br />\n<strong>About the Speaker</strong><br />\n<br />\nBangkok Governor Chadchart&nbsp\;Sittipunt&nbsp\;has a career which spans public service\, the private sector\, and academia. Prior to taking his current office\,&nbsp\;Chadchart served as CEO and Managing Director of Quality Houses Public Company Limited (Q-House). Previously\, he has served as Minister of Transportation from 2012 to 2014\, where he initiated&nbsp\;critical infrastructure projects such as&nbsp\;high-speed trend infrastructure at the Central Bang Sue station and extended dark red-line electric trains to support commuters. He began his career as Associate Professor at the Faculty of Engineering\, Chulalongkorn University. Chadchart holds a Bachelor of Civil Engineering with first-class honors from Chulalongkorn University\, a Master of Structural Engineering from Massachusetts Institute of Technology (MIT)\, and a doctorate in Engineering from University of Illinois\, Urbana-Champaign.</p>\n
LOCATION:Hyatt Regency Bangkok Sukhumvit\, Regency Ballroom. 5th Floor BTS Nana
UID:e.3314.2297
SEQUENCE:3
DTSTAMP:20260420T142258Z
URL:http://www.connect.amchamthailand.com/events/details/rescheduled-member-luncheon-with-bangkok-governor-chadchart-sittipunt-2297
END:VEVENT

END:VCALENDAR
