BEGIN:VCALENDAR
VERSION:2.0
PRODID:-//ChamberMaster//Event Calendar 2.0//EN
METHOD:PUBLISH
X-PUBLISHED-TTL:P3D
REFRESH-INTERVAL:P3D
CALSCALE:GREGORIAN
BEGIN:VEVENT
DTSTART:20221011T030000Z
DTEND:20221011T060000Z
X-MICROSOFT-CDO-ALLDAYEVENT:FALSE
SUMMARY:Scholarship Selection Committee
DESCRIPTION:Scholarship selection of 2022 new intake students.\n\n\n\nBy invitation only
X-ALT-DESC;FMTTYPE=text/html:Scholarship selection of 2022 new intake students.<br />\n<br />\nBy invitation only
LOCATION:Virtual
UID:e.3314.2311
SEQUENCE:3
DTSTAMP:20260420T142009Z
URL:http://www.connect.amchamthailand.com/events/details/scholarship-selection-committee-2311
END:VEVENT

END:VCALENDAR
