BEGIN:VCALENDAR
VERSION:2.0
PRODID:-//ChamberMaster//Event Calendar 2.0//EN
METHOD:PUBLISH
X-PUBLISHED-TTL:P3D
REFRESH-INTERVAL:P3D
CALSCALE:GREGORIAN
BEGIN:VEVENT
DTSTART:20191004T003000Z
DTEND:20191004T020000Z
X-MICROSOFT-CDO-ALLDAYEVENT:FALSE
SUMMARY:Scholarship Selection Committee
DESCRIPTION:Scholarship selection of 2019 new intake students.\n\n\n\nBy invitation only
X-ALT-DESC;FMTTYPE=text/html:Scholarship selection of 2019 new intake students.<br />\n<br />\nBy invitation only
LOCATION:AMCHAM Office
UID:e.3314.404
SEQUENCE:3
DTSTAMP:20260423T091016Z
URL:http://www.connect.amchamthailand.com/events/details/scholarship-selection-committee-404
END:VEVENT

END:VCALENDAR
