BEGIN:VCALENDAR
VERSION:2.0
PRODID:-//ChamberMaster//Event Calendar 2.0//EN
METHOD:PUBLISH
X-PUBLISHED-TTL:P3D
REFRESH-INTERVAL:P3D
CALSCALE:GREGORIAN
BEGIN:VEVENT
DTSTART;VALUE=DATE:20181102
DTEND;VALUE=DATE:20181103
TRANSP:TRANSPARENT
X-MICROSOFT-CDO-ALLDAYEVENT:TRUE
SUMMARY:Scholarship Student Orientation 2-4 November
DESCRIPTION:In our annual 3-day Student Orientation\, AMCHAM welcomes an incoming class of AMCHAM Foundation (ATF) scholarship recipients from across Thailand\, introducing them to the AMCHAM business community\, and laying out expectations for the remaining three years of university studies. The Community Engagement committee worked directly with universities to identify hard working and motivated students from disadvantaged backgrounds. This year\, the ATF has awarded scholarships to 81 new students.\n\n\n\nNovember 2: Ice Breaker Dinner @ Aetas Lumphinee\n\nNovember 3: Workshop followed by a presentation dinner @ Crown Plaza Lumpini\, Bangkok\n\nNovember 4: Community service activity
X-ALT-DESC;FMTTYPE=text/html:In our annual 3-day Student Orientation\, AMCHAM welcomes an incoming class of AMCHAM Foundation (ATF) scholarship recipients from across Thailand\, introducing them to the AMCHAM business community\, and laying out expectations for the remaining three years of university studies. The Community Engagement committee worked directly with universities to identify hard working and motivated students from disadvantaged backgrounds. This year\, the ATF has awarded scholarships to 81 new students.<br />\n<br />\nNovember 2: Ice Breaker Dinner @ Aetas Lumphinee<br />\nNovember 3: Workshop followed by a presentation dinner @ Crown Plaza&nbsp\;Lumpini\, Bangkok<br />\nNovember 4: Community service activity<br />\n&nbsp\;
LOCATION:
UID:e.3314.38
SEQUENCE:3
DTSTAMP:20260424T043155Z
URL:http://www.connect.amchamthailand.com/events/details/scholarship-student-orientation-2-4-november-38
END:VEVENT

END:VCALENDAR
