BEGIN:VCALENDAR
VERSION:2.0
PRODID:-//ChamberMaster//Event Calendar 2.0//EN
METHOD:PUBLISH
X-PUBLISHED-TTL:P3D
REFRESH-INTERVAL:P3D
CALSCALE:GREGORIAN
BEGIN:VEVENT
DTSTART:20200131T050000Z
DTEND:20200131T050000Z
X-MICROSOFT-CDO-ALLDAYEVENT:FALSE
SUMMARY:Scholarship Student Orientation: 31 Jan - 2 Feb
DESCRIPTION:In our annual 3-day Student Orientation\, AMCHAM welcomes an incoming class of AMCHAM Foundation (ATF) scholarship recipients from across Thailand\, introducing them to the AMCHAM business community\, and laying out expectations for the remaining three years of university studies. The Community Projects Committee worked directly with universities to identify hard working and motivated students from disadvantaged backgrounds. This year\, the ATF his awarding scholarships to 30 new students.\n\n\n\nJanuary 31: Ice Breaker Dinner \n\nFebruary 1: Workshop followed by a presentation dinner \n\nFebruary 2: Community service activity
X-ALT-DESC;FMTTYPE=text/html:In our annual 3-day Student Orientation\, AMCHAM welcomes an incoming class of AMCHAM Foundation (ATF) scholarship recipients from across Thailand\, introducing them to the AMCHAM business community\, and laying out expectations for the remaining three years of university studies. The Community Projects Committee worked directly with universities to identify hard working and motivated students from disadvantaged backgrounds. This year\, the ATF his awarding scholarships to 30 new students.<br />\n<br />\nJanuary 31: Ice Breaker Dinner&nbsp\;<br />\nFebruary 1: Workshop followed by a presentation dinner&nbsp\;<br />\nFebruary 2: Community service activity<br />\n&nbsp\;
LOCATION:
UID:e.3314.328
SEQUENCE:3
DTSTAMP:20260423T035652Z
URL:http://www.connect.amchamthailand.com/events/details/scholarship-student-orientation-31-jan-2-feb-328
END:VEVENT

END:VCALENDAR
