BEGIN:VCALENDAR
VERSION:2.0
PRODID:-//ChamberMaster//Event Calendar 2.0//EN
METHOD:PUBLISH
X-PUBLISHED-TTL:P3D
REFRESH-INTERVAL:P3D
CALSCALE:GREGORIAN
BEGIN:VEVENT
DTSTART:20190129T080000Z
DTEND:20190129T100000Z
X-MICROSOFT-CDO-ALLDAYEVENT:FALSE
SUMMARY:Security Committee: Thailand 2019 Elections Webinar
DESCRIPTION:REGISTER NOW\n\nPulse-Check: 2019 Thailand General Elections\n\nLIVE WEBINAR \n\nThe Election Commission (EC) on 23 January confirmed that the long-pending general elections will be held on 24 March 2019\, after several postponements. The general election will be the first since the 2014 military coup that installed the military government led by Prime Minister General Prayuth Chan-o-cha.\n\n \n\nIn the lead-up to the elections\, the lines between political rallies and opposition-led protests may be blurred\, especially if perceptions that the military government is undermining the fairness of the electoral process heighten. The military government's potential interference with the election outcome\, including nullifying results that indicate a loss for a pro-military party also carries the risk of increased unrest. \n\n \n\nTimely planning and preparation are key to ensuring the safety and security of your workforce. Therefore\, in our 25-minute webinar we will discuss: \n\n  Latest developments and possible outcomes of the elections. \n\n  The likely impact of the election period on your organisation's operations and workforce safety. \n\n  Practical steps organisations and staff can take to mitigate risks in the current security environment\n\nSpecial Guest Speakers\n\nJaime Wong\, Security Manager\, Asia Pacific\, International SOS & Control Risks\n\nDerek Taylor\, Director\, Control Risks\n\nHarrison Cheng\, Associate Director\, Control Risks\n\nDo join this special webinar to gain insights necessary for companies operating in Thailand.\n\nWho should attend?\n\nManager having staff and operations in Thailand and with responsibility for:\n\n  Security\n\n  Business continuity\n\n  Risk\, travel\n\n  Human resources
X-ALT-DESC;FMTTYPE=text/html:<p><span style="font-size:14px\;"><span style="font-family:arial\;"><strong><a href="http://learn.internationalsos.com/LP=3564?elqTrackId=DFC92FB852A45C11BA778EE765973332&amp\;elq=9a2eebb9322748348c7367966f25a78e&amp\;elqaid=14105&amp\;elqat=1&amp\;elqCampaignId=">REGISTER NOW</a></strong></span></span></p>\n\n<p><span style="font-size:14px\;"><span style="font-family:arial\;">Pulse-Check: 2019 Thailand General Elections</span></span></p>\n\n<p><span style="font-size:14px\;"><span style="font-family:arial\;"><strong>LIVE WEBINAR</strong>&nbsp\;</span></span></p>\n\n<div><span style="font-size:14px\;"><span style="font-family:arial\;">The Election Commission (EC) on 23 January confirmed that the long-pending general elections will be held on 24 March 2019\, after several postponements. The general election will be the first since the 2014 military coup that installed the military government led by Prime Minister General Prayuth Chan-o-cha.</span></span></div>\n\n<div>&nbsp\;</div>\n\n<div><span style="font-size:14px\;"><span style="font-family:arial\;">In the lead-up to the elections\, the lines between political rallies and opposition-led protests may be blurred\, especially if perceptions that the military government is undermining the fairness of the electoral process heighten. The military government&rsquo\;s potential interference with the election outcome\, including nullifying results that indicate a loss for a pro-military party also carries the risk of increased unrest.&nbsp\;</span></span></div>\n\n<div>&nbsp\;</div>\n\n<div><span style="font-size:14px\;"><span style="font-family:arial\;">Timely planning and preparation are key to ensuring the safety and security of your workforce. Therefore\, in our 25-minute webinar we will discuss:&nbsp\;</span></span></div>\n\n<div><span style="font-size:14px\;"><span style="font-family:arial\;">&bull\;<span style="white-space:pre"> </span>Latest developments and possible outcomes of the elections.&nbsp\;</span></span></div>\n\n<div><span style="font-size:14px\;"><span style="font-family:arial\;">&bull\;<span style="white-space:pre"> </span>The likely impact of the election period on your organisation&rsquo\;s operations and workforce safety.&nbsp\;</span></span></div>\n\n<div><span style="font-size:14px\;"><span style="font-family:arial\;">&bull\;<span style="white-space:pre"> </span>Practical steps organisations and staff can take to mitigate risks in the current security environment</span></span></div>\n\n<p><strong><span style="font-size:14px\;"><span style="font-family:arial\;">Special Guest Speakers</span></span></strong></p>\n\n<p><span style="font-size:14px\;"><span style="font-family:arial\;">Jaime Wong\, Security Manager\, Asia Pacific\, International SOS &amp\; Control Risks<br />\nDerek Taylor\, Director\, Control Risks<br />\nHarrison Cheng\, Associate Director\, Control Risks</span></span></p>\n\n<p><span style="font-size:14px\;"><span style="font-family:arial\;"><span style="color:black\;">Do join this special webinar to gain insights necessary for companies operating in Thailand.</span></span></span></p>\n\n<p><span style="font-size:14px\;"><span style="font-family:arial\;">Who should attend?</span></span></p>\n\n<p><span style="font-size:14px\;"><span style="font-family:arial\;">Manager having staff and operations in Thailand and with responsibility for:</span></span></p>\n\n<p><span style="font-size:14px\;"><span style="font-family:arial\;">&bull\;<span style="white-space:pre"> </span>Security</span></span></p>\n\n<p><span style="font-size:14px\;"><span style="font-family:arial\;">&bull\;<span style="white-space:pre"> </span>Business continuity</span></span></p>\n\n<p><span style="font-size:14px\;"><span style="font-family:arial\;">&bull\;<span style="white-space:pre"> </span>Risk\, travel</span></span></p>\n\n<p><span style="font-size:14px\;"><span style="font-family:arial\;">&bull\;<span style="white-space:pre"> </span>Human resources</span></span></p>\n
LOCATION:LIVE WEBINAR
UID:e.3314.217
SEQUENCE:3
DTSTAMP:20260424T000427Z
URL:http://www.connect.amchamthailand.com/events/details/security-committee-thailand-2019-elections-webinar-217
END:VEVENT

END:VCALENDAR
