BEGIN:VCALENDAR
VERSION:2.0
PRODID:-//ChamberMaster//Event Calendar 2.0//EN
METHOD:PUBLISH
X-PUBLISHED-TTL:P3D
REFRESH-INTERVAL:P3D
CALSCALE:GREGORIAN
BEGIN:VEVENT
DTSTART:20190130T110000Z
DTEND:20190130T130000Z
X-MICROSOFT-CDO-ALLDAYEVENT:FALSE
SUMMARY:SME Committee: Choosing the Right Third Party Accounting Firm For Your SME
DESCRIPTION:With a nearly unlimited number of companies available\, the decision to outsource your SME's accounting has to be carefully considered. Critical questions to consider include: how modern is the thinking of the firm? Will your confidential accounting information remain confidential and "in house"? Is your potential 3rd party accounting team following typical GAAP procedures or are they operating with a more "local" mindset? What other services should one expect from an accounting firm relationship?\n\n \n\nBangkok is full of war stories of companies and directors getting into hot water regarding taxes and corporate financial compliance. Before you decide to invest in hiring an in-house accountant or to select a third party\, you'll want to join us for this event. \n\n\n\nAbout the speaker:\n\n\n\nWorrakit Pholsawad is the founder and director of AccountingOne Co.\, Ltd. & YoungOne Consult Co.\,Ltd.\, and independent accounting and consulting firm. Worrakit started his career as a junior accountant before becoming chief accountant of a major real estate company in 1997. Shortly afterwards\, Worrakit founded Bhornbhen Accounting Co.\,Ltd.\, the predecessor of AccountingOne Co.\,Ltd.
X-ALT-DESC;FMTTYPE=text/html:<div>With a nearly unlimited number of companies available\, the decision to outsource your SME&#39\;s accounting has to be carefully considered. Critical questions to consider include: how modern is the thinking of the firm? Will your confidential accounting information remain confidential and &quot\;in house&quot\;? Is your potential 3rd party accounting team following typical GAAP procedures or are they operating with a more &quot\;local&quot\; mindset? What other services should one expect from an accounting firm relationship?<br />\n&nbsp\;<br />\nBangkok is full of war stories of companies and directors getting into hot water regarding taxes and corporate financial compliance. Before you decide to invest in hiring&nbsp\;an in-house&nbsp\;accountant or to select a third party\, you&#39\;ll want to join us for this event.&nbsp\;<br />\n<br />\nAbout the speaker:<br />\n<br />\nWorrakit Pholsawad&nbsp\;is the founder and director of&nbsp\;AccountingOne Co.\, Ltd. &amp\; YoungOne Consult Co.\,Ltd.\, and independent accounting and consulting firm. Worrakit started his career as a junior accountant before becoming chief accountant of a major real estate company in 1997.&nbsp\;Shortly afterwards\,&nbsp\;Worrakit founded Bhornbhen Accounting Co.\,Ltd.\, the predecessor of&nbsp\;AccountingOne Co.\,Ltd.</div>\n<br />\n<br />\n&nbsp\;
LOCATION:Bourbon Street Restaurant & Oyster Bar Soi Sukhumvit 63\, Ekkamai (BTS Ekkamai)
UID:e.3314.195
SEQUENCE:3
DTSTAMP:20260424T000823Z
URL:http://www.connect.amchamthailand.com/events/details/sme-committee-choosing-the-right-third-party-accounting-firm-for-your-sme-195
END:VEVENT

END:VCALENDAR
