BEGIN:VCALENDAR
VERSION:2.0
PRODID:-//ChamberMaster//Event Calendar 2.0//EN
METHOD:PUBLISH
X-PUBLISHED-TTL:P3D
REFRESH-INTERVAL:P3D
CALSCALE:GREGORIAN
BEGIN:VEVENT
DTSTART:20190313T110000Z
DTEND:20190313T133000Z
X-MICROSOFT-CDO-ALLDAYEVENT:FALSE
SUMMARY:Social Networking @ Conrad Bangkok
DESCRIPTION:ONLINE BOOKINGS ARE CLOSED.  WALK-IN WELCOME.\n\n\n\nThis month we revisit one of our favorite venues\, the Conrad Bangkok\, a hotel that fuses luxury and technology\, artistry and expertise and provides guests with the cutting edge in design\, cuisine and service.\n\n\n\nThe Chamber leadership\, including many members of the Board of Governors and Committee leaders\, will be on hand to welcome members.\n\nEntrance fee includes finger foods and free-flow wine and beer.\n\nProceeds from our networking events go to support the American Chamber of Commerce in Thailand Foundation Scholarship Program.\n\n\n\nDon't miss our first Women on Board discussion event preceding the social networking (separate registration required).\n\nYou will not want to miss the great menu that the Conrad Bangkok is supporting:\n\n- Dusted goat's cheese & pistachio stuffed dates\n\n- Tuna poke\, soy\, ginger\, chives on mini corn tacos\n\n- "SomTam" green papaya salad with prawns in a rice sheet\n\n- Chilled melon skewers shavings of Ibericoand fig Jam\n\n- Sugar seared salmon cauliflower cream\, seaweed salad\n\n- Light seared tuna tatakiwith sesame coriander paste\n\n- Fried "tiger" mussels with garlic mayo\n\n- Greek style spinach and cheese pie\n\n- Spicy Thai Chicken Wings\, fried garlic and coriander\n\n- Boneless pork ribs in a JD barbecue sauce\n\n- Beef dumplings with coriander\, chilliand roasted rice\n\n- New York Crab Cakes with apple truffle salad\n\n- Shrimp fried with seaweed powder\, wasabi aioli\n\n- PhadThai Goong egg rolls\n\n- Fried noodles\, fresh seasonal vegetables\, greens and sprouts\, chicken\n\n- Seafood fajitas - Spiced avocado\, jack cheese\, tomatoes\, iceberg\, jalapenos wrapped in flour tortillas\n\n- Mini wagyu sliders\, onion confit\, cheddar\, Chilli ketchup\, barbecue Sauce\n\n......   Hey! What about desserts?  Don't worry but they will not fit on this page!
X-ALT-DESC;FMTTYPE=text/html:<p><span style="color:#B22222\;"><strong>ONLINE BOOKINGS ARE CLOSED.&nbsp\; WALK-IN WELCOME.</strong></span><br />\n<br />\nThis month we revisit one of our favorite venues\, the Conrad Bangkok\,&nbsp\;a&nbsp\;hotel that fuses luxury and technology\, artistry and expertise and provides guests with the cutting edge in design\, cuisine and service.<br />\n<br />\nThe Chamber leadership\, including many members of the Board of Governors and Committee leaders\, will be on hand to welcome members.</p>\n\n<p>Entrance fee includes finger foods and&nbsp\;free-flow wine and beer.</p>\n\n<p>Proceeds from our networking events go to support the American Chamber of Commerce in Thailand Foundation Scholarship Program.<br />\n<br />\nDon&#39\;t miss our first&nbsp\;<a href="https://connect.amchamthailand.com/events/details/women-on-board-discussion-series-269"><strong>Women on Board</strong></a>&nbsp\;discussion event preceding the social networking (separate registration required).</p>\n\n<p><strong>You will not want to miss the great menu that the Conrad Bangkok is supporting:</strong><br />\n- Dusted goat&rsquo\;s cheese &amp\; pistachio stuffed dates<br />\n- Tuna poke\, soy\, ginger\, chives on mini corn tacos<br />\n- &ldquo\;SomTam&rdquo\; green papaya salad with prawns in a rice sheet<br />\n- Chilled melon skewers shavings of Ibericoand fig Jam<br />\n- Sugar seared salmon cauliflower cream\, seaweed salad<br />\n- Light seared tuna tatakiwith sesame coriander paste<br />\n- Fried &ldquo\;tiger&rdquo\; mussels with garlic mayo<br />\n- Greek style spinach and cheese pie<br />\n- Spicy Thai Chicken Wings\, fried garlic and coriander<br />\n- Boneless pork ribs in a JD barbecue sauce<br />\n- Beef dumplings with coriander\, chilliand roasted rice<br />\n- New York Crab Cakes with apple truffle salad<br />\n- Shrimp fried with seaweed powder\, wasabi aioli<br />\n- PhadThai Goong egg rolls<br />\n- Fried noodles\, fresh seasonal vegetables\, greens and sprouts\, chicken<br />\n- Seafood fajitas -&nbsp\;Spiced avocado\, jack cheese\, tomatoes\, iceberg\, jalapenos wrapped in flour tortillas<br />\n-&nbsp\;Mini wagyu sliders\, onion confit\, cheddar\,&nbsp\;Chilli ketchup\, barbecue Sauce<br />\n......&nbsp\; &nbsp\;Hey! What about desserts?&nbsp\; Don&#39\;t worry but they will not fit on this page!</p>\n
LOCATION:Conrad Bangkok\, New York Room (2nd Floor) BTS Ploenchit (Conrad Bangkok operates a free shuttle bus from bus stop on Ploenchit Road)
UID:e.3314.175
SEQUENCE:3
DTSTAMP:20260423T203053Z
URL:http://www.connect.amchamthailand.com/events/details/social-networking-conrad-bangkok-175
END:VEVENT

END:VCALENDAR
