BEGIN:VCALENDAR
VERSION:2.0
PRODID:-//ChamberMaster//Event Calendar 2.0//EN
METHOD:PUBLISH
X-PUBLISHED-TTL:P3D
REFRESH-INTERVAL:P3D
CALSCALE:GREGORIAN
BEGIN:VEVENT
DTSTART:20190124T110000Z
DTEND:20190124T133000Z
X-MICROSOFT-CDO-ALLDAYEVENT:FALSE
SUMMARY:Social Networking @ Hyatt Regency Bangkok Sukhumvit
DESCRIPTION:ONLINE BOOKING ARE CLOSED BUT WALK-INS ARE WELCOME AT THE EVENT.\n\nJoin us for our first Social Networking night of 2019\, at Bangkok's newest five-star hotel.  The Hyatt Regency Bangkok Sukhumvit is the perfect place for guests to share\, socialize and collaborate. \n\n\n\nThe Chamber leadership\, including many members of the Board of Governors and Committee leaders\, will be on hand to welcome members and ring in 2019 in style.\n\nEntrance fee includes finger foods and free-flow wine and beer.\n\nProceeds from our networking events go to support the American Chamber of Commerce in Thailand Foundation Scholarship Program.
X-ALT-DESC;FMTTYPE=text/html:<p><strong><span style="color:#A52A2A\;">ONLINE BOOKING ARE CLOSED BUT WALK-INS ARE WELCOME AT THE EVENT</span></strong>.</p>\n\n<p>Join us for our first Social Networking night of 2019\, at Bangkok&#39\;s newest five-star hotel.&nbsp\; The Hyatt Regency Bangkok Sukhumvit is the&nbsp\;perfect place for guests to share\, socialize and collaborate.&nbsp\;</p>\n\n<p><br />\nThe Chamber leadership\, including many members of the Board of Governors and Committee leaders\, will be on hand to welcome members and ring in 2019&nbsp\;in style.</p>\n\n<p>Entrance fee includes finger foods and&nbsp\;free-flow wine and beer.</p>\n\n<p>Proceeds from our networking events go to support the American Chamber of Commerce in Thailand Foundation Scholarship Program.</p>\n
LOCATION:Hyatt Regency Bangkok Sukhumvit 1 Sukhumvit Soi13 BTS Nana
UID:e.3314.174
SEQUENCE:3
DTSTAMP:20260424T000759Z
URL:http://www.connect.amchamthailand.com/events/details/social-networking-hyatt-regency-bangkok-sukhumvit-174
END:VEVENT

END:VCALENDAR
