BEGIN:VCALENDAR
VERSION:2.0
PRODID:-//ChamberMaster//Event Calendar 2.0//EN
METHOD:PUBLISH
X-PUBLISHED-TTL:P3D
REFRESH-INTERVAL:P3D
CALSCALE:GREGORIAN
BEGIN:VEVENT
DTSTART:20191009T110000Z
DTEND:20191009T133000Z
X-MICROSOFT-CDO-ALLDAYEVENT:FALSE
SUMMARY:Social Networking @ Ramada Plaza Bangkok Menam Riverside and Meet the Board Candidates
DESCRIPTION:ONLINE REGISTRATION CLOSED.  WALK IN WELCOME!\n\n\n\nCome join fellow AMCHAM members for an enjoyable evening by the banks of the Chao Phraya at our October Social Networking Night at the Ramada Plaza Bangkok Menam Riverside.\n\n\n\nWe anticipate an excellent turnout of members across the board\, as our candidates running for the 2020 -2021 Board of Governors will be present to meet the membership.  We are also delighted to welcome many of our new members in 2019\, who will be attending our New Member Orientation immediately preceding the event.\n\n\n\nEntrance fee includes a selection of mouth-watering foods\, and free-flow wine and beer.\n\nProceeds from our networking events go to support the American Chamber of Commerce in Thailand Foundation Scholarship Program.\n\nMany thanks to Ramada Plaza by Wyndham Bangkok Menam Riverside for providing an extensive menu selection.\n\n\n\nCanape\n\nHam with Pineapple\n\nLiver Mousse in Eclair\n\nTuna Fish Mousse\n\nCrab Meat Salad in Puff Pastry\n\nDuck Terrine\n\n\n\nSalad\n\nSalad bar with assorted dressings\n\n\n\nFood Stations\n\nGammon Ham with Honey Glaze\n\nPast with Tomato Sauce / Beef Sauce\n\nPad Thai\n\nPancakes\n\n\n\nHot dishes (Indian style)\n\nChicken Tikka\n\nCurry Chicken\n\nSamosas\n\nVegetable Curry\n\n\n\nDessert\n\nAssorted Cake & Seasonal Fresh Fruit
X-ALT-DESC;FMTTYPE=text/html:<p><span style="color:#B22222\;"><strong>ONLINE REGISTRATION CLOSED.&nbsp\; WALK IN WELCOME!</strong></span><br />\n<br />\nCome join fellow AMCHAM members for an enjoyable evening by the banks of the Chao Phraya at our October Social Networking Night at the Ramada Plaza Bangkok Menam Riverside.<br />\n<br />\nWe anticipate an excellent turnout of members across the board\, as our candidates running for the 2020 -2021 Board of Governors will be present to meet the membership.&nbsp\; We are also delighted to welcome many of our new members in 2019\, who will be attending our New Member Orientation immediately preceding the event.<br />\n<br />\nEntrance fee includes a selection of mouth-watering foods\, and free-flow wine and beer.</p>\n\n<p>Proceeds from our networking events go to support the American Chamber of Commerce in Thailand Foundation Scholarship Program.</p>\n\n<p>Many thanks to Ramada Plaza by Wyndham Bangkok Menam Riverside for providing an extensive menu selection.<br />\n<br />\n<strong>Canape</strong><br />\nHam with Pineapple<br />\nLiver Mousse in Eclair<br />\nTuna Fish Mousse<br />\nCrab Meat Salad in Puff Pastry<br />\nDuck Terrine<br />\n<br />\n<strong>Salad</strong><br />\nSalad bar with assorted dressings<br />\n<br />\n<strong>Food Stations</strong><br />\nGammon Ham with Honey Glaze<br />\nPast with Tomato Sauce / Beef Sauce<br />\nPad Thai<br />\nPancakes<br />\n<br />\n<strong>Hot dishes (Indian style)</strong><br />\nChicken Tikka<br />\nCurry Chicken<br />\nSamosas<br />\nVegetable Curry<br />\n<br />\n<strong>Dessert</strong><br />\nAssorted Cake &amp\; Seasonal Fresh Fruit</p>\n
LOCATION:Ramada Plaza Menam Riverside Hotel 2074 Charoenkrung Road BTS Saphan Taksin (shuttle boats depart the hotel every 30 minutes on the hour and half hour and will depart from Saphan Thaksin approximately 10 minutes after)
UID:e.3314.180
SEQUENCE:3
DTSTAMP:20260423T091515Z
URL:http://www.connect.amchamthailand.com/events/details/social-networking-ramada-plaza-bangkok-menam-riverside-and-meet-the-board-candidates-180
END:VEVENT

END:VCALENDAR
