BEGIN:VCALENDAR
VERSION:2.0
PRODID:-//ChamberMaster//Event Calendar 2.0//EN
METHOD:PUBLISH
X-PUBLISHED-TTL:P3D
REFRESH-INTERVAL:P3D
CALSCALE:GREGORIAN
BEGIN:VEVENT
DTSTART:20200312T113000Z
DTEND:20200312T150000Z
X-MICROSOFT-CDO-ALLDAYEVENT:FALSE
SUMMARY:St. Patrick’s Day Shindig 2020 hosted by ITCC
DESCRIPTION:AMCHAM in partnership with The Irish Thai Chamber of Commerce (ITCC)\, Embassy of Ireland\, ThaiGAA\, Irish Women's Group\, St. Patrick's Society Bangkok\, British Chamber of Commerce Thailand (BCCT)\, Australian-Thai Chamber of Commerce (AustCham)\, Singapore-Thai Chamber of Commerce (STCC) and European Association for Business and Commerce (EABC) brings you its annual "ST. PATRICK'S DAY SHINDIG"\n\n\n\n \n*** Cash at door\, CLICK HERE to register ***\n\n*** Bank Transfer\, CLICK HERE to register ***\n\nPayPal/Credit card/ Debit card\, Please fill out the form on this LINK
X-ALT-DESC;FMTTYPE=text/html:AMCHAM in partnership with The Irish Thai Chamber of Commerce (ITCC)\, Embassy of Ireland\, ThaiGAA\, Irish Women&#39\;s Group\, St. Patrick&#39\;s Society Bangkok\, British Chamber of Commerce Thailand (BCCT)\, Australian-Thai Chamber of Commerce (AustCham)\, Singapore-Thai Chamber of Commerce (STCC) and European Association for Business and Commerce (EABC) brings you its annual &quot\;ST. PATRICK&#39\;S DAY SHINDIG&quot\;<br />\n<br />\n&nbsp\;\n<p style="box-sizing: border-box\; line-height: 1.7\; margin: 0px 0px 10px\; font-family: Roboto\, Arial\, Helvetica\, sans-serif\; font-size: 14px\;"><strong style="box-sizing: border-box\;"><span style="box-sizing: border-box\; color: rgb(255\, 0\, 0)\;">*** Cash at door\,&nbsp\;<a href="https://www.irishthaicc.com/st-patricks-day-shindig-registration-cash-at-door/" style="box-sizing: border-box\; text-decoration-line: none\; color: rgb(34\, 34\, 34)\;">CLICK HERE to register</a>&nbsp\;***</span></strong></p>\n\n<p style="box-sizing: border-box\; line-height: 1.7\; margin: 0px 0px 10px\; font-family: Roboto\, Arial\, Helvetica\, sans-serif\; font-size: 14px\;"><span style="box-sizing: border-box\; color: rgb(255\, 0\, 0)\;"><strong style="box-sizing: border-box\;">*** Bank Transfer\,&nbsp\;<a href="https://www.irishthaicc.com/st-patricks-day-shindig-registration-bank-transfer/" style="box-sizing: border-box\; text-decoration-line: none\; color: rgb(34\, 34\, 34)\;">CLICK HERE to register</a>&nbsp\;***</strong></span></p>\n\n<p style="box-sizing: border-box\; line-height: 1.7\; margin: 0px 0px 10px\; font-family: Roboto\, Arial\, Helvetica\, sans-serif\; font-size: 14px\;"><strong style="box-sizing: border-box\;"><span style="box-sizing: border-box\; color: rgb(255\, 0\, 0)\;">PayPal/Credit card/ Debit card\, Please fill out the form on this </span><a href="https://www.irishthaicc.com/event/st-patricks-day-shindig-2020/"><span style="box-sizing: border-box\;">LINK</span></a></strong></p>\n
LOCATION:Surasak 1 Room\, The Eastin Grand Hotel Sathorn Bangkok
UID:e.3314.1503
SEQUENCE:3
DTSTAMP:20260423T001040Z
URL:http://www.connect.amchamthailand.com/events/details/st-patrick-s-day-shindig-2020-hosted-by-itcc-1503
END:VEVENT

END:VCALENDAR
