BEGIN:VCALENDAR
VERSION:2.0
PRODID:-//ChamberMaster//Event Calendar 2.0//EN
METHOD:PUBLISH
X-PUBLISHED-TTL:P3D
REFRESH-INTERVAL:P3D
CALSCALE:GREGORIAN
BEGIN:VEVENT
DTSTART:20230405T073000Z
DTEND:20230405T090000Z
X-MICROSOFT-CDO-ALLDAYEVENT:FALSE
SUMMARY:Stand Up Against Street Harassment
DESCRIPTION:AMCHAM is delighted to welcome Thanawadee Onginsea\, Program Coordinator at Raks Thai Foundation\, as our keynote speaker for the 2023 AMCHAM Scholarship Orientation Camp.\n\n\n\nMembers are invited to join this session for the opportunity to meet and interact with our AMCHAM scholarship students and learn more about the importance of standing up to street harassment. Please note that the session will be conducted in Thai. English translation will not be provided.\n\n\n\nThanawadee will address the topic of street harassment and provide actionable insights on how we can all take action to create safer communities. Participants will learn how to recognize\, prevent\, and respond to street harassment\, enabling them to make a meaningful difference in their communities. Thanawadee has extensive experience working on issues related to gender-based violence and creating safe spaces for all individuals in Thailand.\n\n\n\nAbout the Speaker\n\nThanawadee Onginsea is a Project Coordinator at Raks Thai Foundation. She graduated from Chulalongkorn University with a major in Business Education. With extensive experience in various areas including NGO work in health\, marketing\, PR\, communication\, project management\, partnership\, CSR\, and social media\, she currently serves as a Project Coordinator at Raks Thai Foundation\, managing and evaluating projects related to women's economic empowerment\, gender equality\, and gender-based violence.
X-ALT-DESC;FMTTYPE=text/html:AMCHAM is delighted to welcome Thanawadee Onginsea\, Program Coordinator at Raks Thai Foundation\, as our keynote speaker for the 2023 AMCHAM Scholarship Orientation Camp.<br />\n<br />\nMembers are invited to join this session&nbsp\;for the opportunity to meet and interact with our AMCHAM scholarship students and learn more about the importance of standing up to street harassment.&nbsp\;<em><strong>Please note that the session will be conducted in Thai. English translation will not be provided.</strong></em><br />\n<br />\nThanawadee will address the topic of street harassment and provide actionable insights on how we can all take action to create safer communities. Participants will learn how to recognize\, prevent\, and respond to street harassment\, enabling them to make a meaningful difference in their communities. Thanawadee has extensive experience working on issues related to gender-based violence and creating safe spaces for all individuals in Thailand.<br />\n<br />\n<strong>About the Speaker</strong><br />\n<a href="http://linkedin.com/in/thanawadee-onginsea-553a761b0">Thanawadee Onginsea</a>&nbsp\;is a Project Coordinator at Raks Thai Foundation. She graduated&nbsp\;from Chulalongkorn University with a major in Business Education. With extensive experience in various areas including NGO work in health\, marketing\, PR\, communication\, project management\, partnership\, CSR\, and social media\, she currently serves as a Project Coordinator at Raks Thai Foundation\, managing and evaluating projects related to women&#39\;s economic empowerment\, gender equality\, and gender-based violence.
LOCATION:True Digital Park\, Griffin Building 7th Floor\, Townhall L BTS: Punnawithi (direct exit to True Digital Park) For directions to the Griffin Building\, click here. Please note that not all venues in True Digital Park are wheelchair-accessible. If you have mobility concerns\, please contact our staff so that we can confirm suitability of the venue.
UID:e.3314.2530
SEQUENCE:3
DTSTAMP:20260420T053215Z
URL:http://www.connect.amchamthailand.com/events/details/stand-up-against-street-harassment-2530
END:VEVENT

END:VCALENDAR
