BEGIN:VCALENDAR
VERSION:2.0
PRODID:-//ChamberMaster//Event Calendar 2.0//EN
METHOD:PUBLISH
X-PUBLISHED-TTL:P3D
REFRESH-INTERVAL:P3D
CALSCALE:GREGORIAN
BEGIN:VEVENT
DTSTART:20230125T050000Z
DTEND:20230125T110000Z
X-MICROSOFT-CDO-ALLDAYEVENT:FALSE
SUMMARY:Strategy Session 2023
DESCRIPTION:AMCHAM Board Governors and Committee Chairs will gather for the annual AMCHAM Strategy Session to set goals and directions for 2023 AMCHAM activity\, government relations\, and programming. The event kicks off with a networking lunch\, followed by brief presentations and longer breakout discussion sessions. The afternoon will conclude with team building activities.\n\n\n\nThis event is by invitation only for the AMCHAM leadership.
X-ALT-DESC;FMTTYPE=text/html:<p>AMCHAM Board Governors and Committee Chairs will gather for the annual AMCHAM Strategy Session to set goals and directions for 2023 AMCHAM activity\, government relations\, and programming. The event kicks off with a networking lunch\, followed by brief presentations and longer breakout discussion sessions. The afternoon will conclude&nbsp\;with team building activities.<br />\n<br />\nThis event is by invitation only for the AMCHAM leadership.&nbsp\;&nbsp\;</p>\n
LOCATION:Topgolf Megacity
UID:e.3314.2453
SEQUENCE:3
DTSTAMP:20260420T090144Z
URL:http://www.connect.amchamthailand.com/events/details/strategy-session-2023-2453
END:VEVENT

END:VCALENDAR
