BEGIN:VCALENDAR
VERSION:2.0
PRODID:-//ChamberMaster//Event Calendar 2.0//EN
METHOD:PUBLISH
X-PUBLISHED-TTL:P3D
REFRESH-INTERVAL:P3D
CALSCALE:GREGORIAN
BEGIN:VEVENT
DTSTART:20220218T070000Z
DTEND:20220218T080000Z
X-MICROSOFT-CDO-ALLDAYEVENT:FALSE
SUMMARY:Sustainability and Plastics Committee: Thailand's BCG strategy and the National Determined Contributions
DESCRIPTION:Thailand is embracing the Bio-Circular-Green (BCG) Economy Model as a sustainable and inclusive approach to drive the economic and social development after Covid-19. BCG model will create great business opportunities in Thailand and positioned the country to become a global investment destination for BCG businesses.\n\n \n\nIn this session we are honored to have Dr.Wijarn Simachaya\, President of Thai Environment Institute (TEI) and a chairman of circular economy under the Bio-Circular-Green (BCG) Economy Model to come and talk about Thailand's BCG's strategy in 2022 - 2027 especially on Circular Economy Model. He will also touch Thailand's Long-Term Greenhouse Gas Emission Development Strategy and the new National Determined Contributions that the government has pledged at COP26.\n\n\n\nOur Speaker:\n\nDr. Wijarn Simachaya\, President of Thai Environment Institute\, the Secretary-General of Thailand Business Council for Sustainable Development (TBCSD)\, a Chairman of PPP Plastics.\n\n\n\nDr. Wijarn is a former Permanent Secretary of the Ministry of Natural Resources and Director General of Pollution Control Department of Thailand. He was also a representative of the ministry of various UN\, Sub-regional\, and ASEAN / ASEAN Plus 3 Forums. He has worked as a chairman of circular economy under the Bio-Circular-Green (BCG) Economy Model. \n\n \n\nHe currently works with various public-private agencies\, civil societies and communities on the ground to develop environmental management models for the country\, and moving toward sustainable development. Dr. Wijarn holds Doctorate in Philosophy (Ph.D.) in Environmental Engineering from University of Guelph\, Canada in 1990.
X-ALT-DESC;FMTTYPE=text/html:Thailand is embracing the Bio-Circular-Green (BCG) Economy Model as a sustainable and inclusive approach to drive the economic and social development after Covid-19. BCG model will create great business opportunities in Thailand and positioned the country to become a global investment destination for BCG businesses.<br />\n&nbsp\;<br />\nIn this session we are honored to have Dr.Wijarn Simachaya\, President of Thai Environment Institute (TEI) and a chairman of circular economy under the Bio-Circular-Green (BCG) Economy Model to come and talk about Thailand&#39\;s BCG&#39\;s strategy in 2022 - 2027 especially on Circular Economy Model. He will also touch Thailand&#39\;s Long-Term Greenhouse Gas Emission Development Strategy and the new National Determined Contributions that the government has pledged at COP26.<br />\n<br />\n<strong>Our Speaker:</strong><br />\nDr. Wijarn Simachaya\, President of Thai Environment Institute\, the Secretary-General of Thailand Business Council for Sustainable Development (TBCSD)\, a Chairman of PPP Plastics.<br />\n<br />\nDr. Wijarn is a former Permanent Secretary of the Ministry of Natural Resources and Director General of Pollution Control Department of Thailand. He was also a representative of the ministry of various UN\, Sub-regional\, and ASEAN / ASEAN Plus 3 Forums. He has worked as a chairman of circular economy under the Bio-Circular-Green (BCG) Economy Model.&nbsp\;<br />\n&nbsp\;<br />\nHe currently works with various public-private agencies\, civil societies and communities on the ground to develop environmental management models for the country\, and moving toward sustainable development. Dr. Wijarn holds Doctorate in Philosophy (Ph.D.) in Environmental Engineering from University of Guelph\, Canada in 1990.
LOCATION:Webinar
UID:e.3314.2120
SEQUENCE:3
DTSTAMP:20260421T051931Z
URL:http://www.connect.amchamthailand.com/events/details/sustainability-and-plastics-committee-thailand-s-bcg-strategy-and-the-national-determined-contributions-2120
END:VEVENT

END:VCALENDAR
