BEGIN:VCALENDAR
VERSION:2.0
PRODID:-//ChamberMaster//Event Calendar 2.0//EN
METHOD:PUBLISH
X-PUBLISHED-TTL:P3D
REFRESH-INTERVAL:P3D
CALSCALE:GREGORIAN
BEGIN:VEVENT
DTSTART:20220624T070000Z
DTEND:20220624T080000Z
X-MICROSOFT-CDO-ALLDAYEVENT:FALSE
SUMMARY:Sustainability and Plastics Committee: The Importance of ESG for the Private Sector
DESCRIPTION:The world has seen significant changes from climate change\, pandemic\, social justice movement\, and more. At the same time\, corporations are experiencing rising expectations from stakeholders\, including governments\, shareholders\, investors\, and corporate peers. Shareholders and investors are taking a closer look at companies' ESG (Environmental\, Social\, and Governance) strategies and track records. There is also an increasing number of customers asking suppliers to commit to making their products in a sustainable way and governments around the world are instituting regulations and policies designed to address and mitigate the world's critical challenges.\n\n \n\nIn this session\, we are honored to have Jim Falteisek\, 3M Asia Corporate Affairs Senior Vice President and 3M Korea Managing Director\, to talk about the Importance of ESG for the Private Sector. He will also share with us how we\, as part of the private sector\, can incorporate ESG in our new way of doing business.\n\n \n\nOur Speaker:\n\n\n\nJim Falteisek is 3M's Senior Vice President of Corporate Affairs in Asia and Managing Director of 3M Korea. He currently serves as Vice Chair and Board of Directors\, and Co-Chair of the Sustainability Committee of AMCHAM Korea. He also serves on the Board of Directors of the US-ASEAN Business Council.\n\n \n\nJim leads the execution of many corporate priorities in Asia\, including government affairs\, ethics and compliance\, and ESG efforts. He also actively leads Diversity\, Equity and Inclusion initiatives at 3M.\n\n \n\nPrior to his appointment at 3M Asia\, he held various senior leadership roles in R&D\, sales\, marketing\, and business management. Through his abundant global experience in many different roles across the company\, he has become well versed in addressing multicultural\, complex issues.
X-ALT-DESC;FMTTYPE=text/html:The world has seen significant changes from climate change\, pandemic\, social justice movement\, and more. At the same time\, corporations are experiencing rising expectations from stakeholders\, including governments\, shareholders\, investors\, and corporate peers.&nbsp\;Shareholders and investors are taking a closer look at companies&rsquo\; ESG (Environmental\, Social\, and Governance) strategies and track records. There is also an increasing number of customers asking suppliers to commit to making their products in a sustainable way and governments around the world are instituting regulations and policies designed to address and mitigate the world&rsquo\;s critical challenges.<br />\n&nbsp\;<br />\nIn this session\, we are honored to have Jim Falteisek\, 3M Asia Corporate Affairs Senior Vice President and 3M Korea Managing Director\, to talk about the Importance of ESG for the Private Sector. He will also share with us how we\, as part of the private sector\, can incorporate ESG in our new way of doing business.<br />\n&nbsp\;<br />\n<strong>Our Speaker:</strong><br />\n<br />\n<a href="https://www.linkedin.com/in/jim-falteisek-bb9651"><strong>Jim Falteisek</strong></a>&nbsp\;is 3M&rsquo\;s Senior Vice President of Corporate Affairs in Asia and Managing Director of 3M Korea. He currently serves as Vice Chair and Board of Directors\, and Co-Chair of the Sustainability Committee of AMCHAM Korea. He also serves on the Board of Directors of the US-ASEAN Business Council.<br />\n&nbsp\;<br />\nJim leads the execution of many corporate priorities in Asia\, including government affairs\, ethics and compliance\, and ESG efforts. He also actively leads Diversity\, Equity and Inclusion initiatives at 3M.<br />\n&nbsp\;<br />\nPrior to his appointment at 3M Asia\, he held various senior leadership roles in R&amp\;D\, sales\, marketing\, and business management. Through his abundant global experience in many different roles across the company\, he has become well versed in addressing multicultural\, complex issues.
LOCATION:Webinar
UID:e.3314.2223
SEQUENCE:3
DTSTAMP:20260420T215645Z
URL:http://www.connect.amchamthailand.com/events/details/sustainability-and-plastics-committee-the-importance-of-esg-for-the-private-sector-2223
END:VEVENT

END:VCALENDAR
