BEGIN:VCALENDAR
VERSION:2.0
PRODID:-//ChamberMaster//Event Calendar 2.0//EN
METHOD:PUBLISH
X-PUBLISHED-TTL:P3D
REFRESH-INTERVAL:P3D
CALSCALE:GREGORIAN
BEGIN:VEVENT
DTSTART:20191028T073000Z
DTEND:20191028T100000Z
X-MICROSOFT-CDO-ALLDAYEVENT:FALSE
SUMMARY:Tax Committee: Estate Planning for Mixed Nationality Families
DESCRIPTION:ONLINE REGISTRATION FOR THIS EVENT IS CLOSED. WALK-INS WELCOME.\n\n\n\nEstate and succession planning is a daunting task at the best of times\, but mixed nationality families face added challenges (and opportunities). \n\n\n\nIf you are a U.S. citizen married to a non-U.S. citizen spouse\; if you have children or grandchildren holding U.S. nationality\; or if you yourself hold dual nationality\, please join us to hear key insights that will shape how you approach your estate planning.\n\n\n\nTopics include:\n\n	Straightforward steps you can take to make sure your non-U.S. citizen spouse has access to the U.S. assets you want him or her to have if you pass away.  We have all heard the disaster stories that have befallen U.S. - Thai couples in similar situations.\n	How to make sure your loved ones inherit what you want them to inherit\, in the shares you want them to get\, when you want them to get it\, and with a minimum amount of infighting or legal delay.\n	Estate and income tax minimization strategies (for individuals to whom U.S. estate tax apply)\n	Issues that affect dual U.S. Thai nationals or those with substantial Thai assets (such as double taxation under the different U.S. and Thai taxation schemes)\n\n\n\nAbout the Speakers:\n\nArt Winter is a Partner at Winter & Melbinger\, LLP. He practices in the areas of international tax and estate planning and administration\; income tax\, immigration and employee benefit planning for individuals moving to and from the U.S.  Mr. Winter is a member of the Illinois\, California and New York bars. Previously he practiced law at Sidley & Austin in the firm's Chicago and Singapore offices. \n\n \n\nJonathan Blaine is Thailand Tax Director & Head of Regional Compliance & Investigations at DFDL (Thailand) Ltd. He specializes in cross-border corporate and personal investment and tax planning with a particular focus on US\, Thailand and Japanese investments.  He has supported numerous individual clients with US tax amnesty and Streamlined filings and is a recognized expert in Foreign Account Tax Compliance Act (FATCA)\, while also providing several well-known multinational corporate clients with international investment planning and structuring. He is a licensed California attorney and has been a licensed USCPA (Hawaii) for more than 20 years. He is a frequent lecturer at several universities and speaker at seminars globally.
X-ALT-DESC;FMTTYPE=text/html:<b>ONLINE REGISTRATION FOR THIS EVENT IS CLOSED. WALK-INS WELCOME.</b><br />\n<br />\nEstate and succession planning is a daunting task at the best of times\, but mixed nationality families face added challenges (and opportunities).&nbsp\;<br />\n<br />\nIf you are a U.S. citizen married to a non-U.S. citizen spouse\; if you have children or grandchildren holding U.S. nationality\; or if you yourself hold dual nationality\, please join us to hear key insights that will shape how you approach your estate planning.<br />\n<br />\nTopics include:\n<ul>\n	<li>Straightforward steps you can take to make sure your non-U.S. citizen spouse has access to the U.S. assets you want him or her to have if you pass away.&nbsp\; We have all heard the disaster stories that have befallen U.S. - Thai couples in similar situations.</li>\n	<li>How to make sure your loved ones inherit what you want them to inherit\, in the shares you want them to get\, when you want them to get it\, and with a minimum amount of infighting or legal delay.</li>\n	<li>Estate and income tax minimization strategies (for individuals to whom U.S. estate tax apply)</li>\n	<li>Issues that affect dual U.S. Thai nationals or those with substantial Thai assets (such as double taxation under the different U.S. and Thai taxation schemes)</li>\n</ul>\n<br />\n<strong>About the Speakers:</strong><br />\n<strong>Art Winter</strong> is a Partner at Winter &amp\; Melbinger\, LLP. He practices in the areas of international tax and estate planning and administration\; income tax\, immigration and employee benefit planning for individuals moving to and from the U.S.&nbsp\; Mr. Winter is a member of the Illinois\, California and New York bars. Previously he practiced law at Sidley &amp\; Austin in the firm&#39\;s Chicago and Singapore offices.&nbsp\;<br />\n&nbsp\;<br />\n<strong>Jonathan Blaine</strong> is Thailand Tax Director &amp\; Head of Regional Compliance &amp\; Investigations at DFDL (Thailand) Ltd. He specializes in cross-border corporate and personal investment and tax planning with a particular focus on US\, Thailand and Japanese investments.&nbsp\; He has supported numerous individual clients with US tax amnesty and Streamlined filings and is a recognized expert in Foreign Account Tax Compliance Act (FATCA)\, while also providing several well-known multinational corporate clients with international investment planning and structuring. He is a licensed California attorney and has been a licensed USCPA (Hawaii) for more than 20 years. He is a frequent lecturer at several universities and speaker at seminars globally.<br />\n&nbsp\;
LOCATION:Oriental Residence BTS Ploenchit
UID:e.3314.399
SEQUENCE:3
DTSTAMP:20260423T092703Z
URL:http://www.connect.amchamthailand.com/events/details/tax-committee-estate-planning-for-mixed-nationality-families-399
END:VEVENT

END:VCALENDAR
