BEGIN:VCALENDAR
VERSION:2.0
PRODID:-//ChamberMaster//Event Calendar 2.0//EN
METHOD:PUBLISH
X-PUBLISHED-TTL:P3D
REFRESH-INTERVAL:P3D
CALSCALE:GREGORIAN
BEGIN:VEVENT
DTSTART:20190227T050000Z
DTEND:20190227T063000Z
X-MICROSOFT-CDO-ALLDAYEVENT:FALSE
SUMMARY:Tax Committee: Filing US Tax under the New TCJA
DESCRIPTION:A little more than a year has passed since the Tax Cuts and Jobs was enacted by President Trump and Congress. This is the first tax season when U.S. taxpayers will see exactly how the new tax law will impact them and the questions are pouring in:\n\n	Why does the Form 1040 look so different and how do I fill it out?\n	What's still deductible\, what isn't?\n	If I have dependents\, can I still claim them?\n	Do business owners of non-US companies still have to pay tax?\n\nOn February 27th\, the AMCHAM tax committee will be hosting an event to cover these questions and more.  Tax Committee Co-chairs Matthew Stevens of U.S. Global Tax Plan Ltd.\, Jonathan Blaine of DFDL (Thailand) Ltd.\, and John Andes of KPMG in Thailand will present on the key issues confronting perplexed U.S. taxpayers and be available to answer your questions.\n\n\n\nDo you have a burning question to ask? Please send us your concerns and questions and our co-chairs will do their best to address them in the session.
X-ALT-DESC;FMTTYPE=text/html:A little more than a year has passed since the Tax Cuts and Jobs was enacted by President Trump and Congress. This is the first tax season when U.S. taxpayers will see exactly how the new tax law will impact them and the questions are pouring in:\n<ul>\n	<li>Why does the Form 1040 look so different and how do I fill it out?</li>\n	<li>What&rsquo\;s still deductible\, what isn&rsquo\;t?</li>\n	<li>If I have dependents\, can I still claim them?</li>\n	<li>Do business owners of non-US companies still have to pay tax?</li>\n</ul>\nOn February 27th\, the AMCHAM tax committee will be hosting an event to cover these questions and more.&nbsp\; Tax Committee Co-chairs <strong><a href="https://www.linkedin.com/in/matthew-stevens-aa802582/">Matthew Stevens</a> </strong>of U.S. Global&nbsp\;Tax Plan Ltd.\, <strong><a href="https://www.dfdl.com/locations/thailand/thailand-team/jonathan-blaine/">Jonathan Blaine</a></strong> of DFDL (Thailand) Ltd.\, and <strong><a href="https://home.kpmg/th/en/home/contacts/a/john-andes.html">John Andes</a></strong> of KPMG in Thailand will present on the key issues confronting perplexed U.S. taxpayers and be available to answer your questions.<br />\n<br />\n<strong>Do you have a burning question to ask?</strong> Please <a href="mailto:sarawan@amchamthailand.com">send us</a> your concerns and questions and our co-chairs will do their best to address them in the session.
LOCATION:AMCHAM Office\, Citi Boardroom Nearest BTS: Ploenchit
UID:e.3314.260
SEQUENCE:3
DTSTAMP:20260423T221836Z
URL:http://www.connect.amchamthailand.com/events/details/tax-committee-filing-u-s-tax-with-the-new-forms-260
END:VEVENT

END:VCALENDAR
