BEGIN:VCALENDAR
VERSION:2.0
PRODID:-//ChamberMaster//Event Calendar 2.0//EN
METHOD:PUBLISH
X-PUBLISHED-TTL:P3D
REFRESH-INTERVAL:P3D
CALSCALE:GREGORIAN
BEGIN:VEVENT
DTSTART:20200207T050000Z
DTEND:20200207T070000Z
X-MICROSOFT-CDO-ALLDAYEVENT:FALSE
SUMMARY:Tax Committee: Planning Meeting
DESCRIPTION:
X-ALT-DESC;FMTTYPE=text/html:
LOCATION:
UID:e.3314.1546
SEQUENCE:3
DTSTAMP:20260423T021353Z
URL:http://www.connect.amchamthailand.com/events/details/tax-committee-planning-meeting-1546
END:VEVENT

END:VCALENDAR
