BEGIN:VCALENDAR
VERSION:2.0
PRODID:-//ChamberMaster//Event Calendar 2.0//EN
METHOD:PUBLISH
X-PUBLISHED-TTL:P3D
REFRESH-INTERVAL:P3D
CALSCALE:GREGORIAN
BEGIN:VEVENT
DTSTART:20220825T020000Z
DTEND:20220825T030000Z
X-MICROSOFT-CDO-ALLDAYEVENT:FALSE
SUMMARY:Tax Committee Planning Meeting: Aug 2022 Video Conference
DESCRIPTION:Please join us for the Tax Committee Planning Meeting.\n\n \n\nAMCHAM's Tax Committee would like to invite interested members to join our planning meeting. The topics of discussion cover a variety of tax matters such as the update on the two pillars of OECD's Domestic tax base erosion and profit shifting (BEPS)\, Thailand's adoption of the Multilateral Convention to Implement Tax Treaty (MLI) and its impacts on Thai tax treaties\, continued efforts to extend the tax loss carry forward\, and many more.
X-ALT-DESC;FMTTYPE=text/html:Please join us for the Tax Committee Planning Meeting.<br />\n&nbsp\;<br />\nAMCHAM&#39\;s Tax Committee would like to invite interested members to join our planning meeting.&nbsp\;The topics of discussion cover a variety of tax matters such as the update on the two pillars of OECD&#39\;s Domestic tax base erosion and profit shifting (BEPS)\, Thailand&#39\;s adoption of the Multilateral Convention to Implement Tax Treaty (MLI) and its impacts on Thai tax treaties\, continued efforts to extend the tax loss carry forward\, and many more.
LOCATION:Video Conference
UID:e.3314.2253
SEQUENCE:3
DTSTAMP:20260420T180654Z
URL:http://www.connect.amchamthailand.com/events/details/tax-committee-planning-meeting-aug-2022-video-conference-2253
END:VEVENT

END:VCALENDAR
