BEGIN:VCALENDAR
VERSION:2.0
PRODID:-//ChamberMaster//Event Calendar 2.0//EN
METHOD:PUBLISH
X-PUBLISHED-TTL:P3D
REFRESH-INTERVAL:P3D
CALSCALE:GREGORIAN
BEGIN:VEVENT
DTSTART:20231004T030000Z
DTEND:20231004T040000Z
X-MICROSOFT-CDO-ALLDAYEVENT:FALSE
SUMMARY:Tax Committee: Thai Tax on Foreign-Sourced Income
DESCRIPTION:The AMCHAM Tax Committee is convening a special meeting regarding the recent Revenue Department Notification Por 161\, issued on September 15\, which prescribes a tax levy on foreign-sourced income. Leaders will begin the meeting with a short briefing on the regulation\, what is known and what is still to be clarified\, and how this potentially affects members.  Attendees will have the opportunity to be able to ask their questions in the webinar.\n\n\n\nPlease do join us for an informative question on an emerging topic which many members have questions about.
X-ALT-DESC;FMTTYPE=text/html:<div>The AMCHAM Tax Committee is convening a special meeting regarding the recent Revenue Department&nbsp\;Notification Por 161\, issued on September 15\, which prescribes a tax levy on foreign-sourced income. Leaders will begin&nbsp\;the meeting with a short briefing on the regulation\, what is known and what is still to be clarified\, and how this potentially affects members.&nbsp\; Attendees will have the opportunity to be able to ask their&nbsp\;questions in the webinar.<br />\n<br />\nPlease do join us for an informative question on an emerging topic which many members have questions about.</div>\n
LOCATION:Webinar
UID:e.3314.2633
SEQUENCE:3
DTSTAMP:20260419T170352Z
URL:http://www.connect.amchamthailand.com/events/details/tax-committee-thai-tax-on-foreign-sourced-income-2633
END:VEVENT

END:VCALENDAR
