BEGIN:VCALENDAR
VERSION:2.0
PRODID:-//ChamberMaster//Event Calendar 2.0//EN
METHOD:PUBLISH
X-PUBLISHED-TTL:P3D
REFRESH-INTERVAL:P3D
CALSCALE:GREGORIAN
BEGIN:VEVENT
DTSTART:20231215T020000Z
DTEND:20231215T030000Z
X-MICROSOFT-CDO-ALLDAYEVENT:FALSE
SUMMARY:Tax Committee: Thai Tax on Foreign-Sourced Income
DESCRIPTION:By popular request\, the AMCHAM Tax Committee is providing an update for members on Revenue Department Notification Por 161\, issued on September 15\, which prescribes a tax levy on foreign-sourced income\, as well as the clarification issued on November 20 regarding the tax status of foreign-sourced income earned before 1 January 2024. Attendees will have the opportunity to be able to ask their questions in the webinar.\n\n\n\nPlease do join us for an informative session as you prepare to close your 2023 tax year.
X-ALT-DESC;FMTTYPE=text/html:By popular request\, the AMCHAM Tax Committee is providing an update for members on Revenue Department Notification Por 161\, issued on September 15\, which prescribes a tax levy on foreign-sourced income\, as well as the clarification issued on November 20 regarding the tax status of foreign-sourced income earned before 1 January 2024. Attendees will have the opportunity to be able to ask their questions in the webinar.<br>\n<br>\nPlease do join us for an informative session as you prepare to close your 2023 tax year.
LOCATION:Webinar
UID:e.3314.2689
SEQUENCE:3
DTSTAMP:20260419T152302Z
URL:http://www.connect.amchamthailand.com/events/details/tax-committee-thai-tax-on-foreign-sourced-income-2689
END:VEVENT

END:VCALENDAR
