BEGIN:VCALENDAR
VERSION:2.0
PRODID:-//ChamberMaster//Event Calendar 2.0//EN
METHOD:PUBLISH
X-PUBLISHED-TTL:P3D
REFRESH-INTERVAL:P3D
CALSCALE:GREGORIAN
BEGIN:VEVENT
DTSTART:20181217T050000Z
DTEND:20181217T060000Z
X-MICROSOFT-CDO-ALLDAYEVENT:FALSE
SUMMARY:Tax Committee: U.S. Tax Filing Updates
DESCRIPTION:The Tax Committee will hold its 2018 annual U.S. Tax Update on December 17 at the AMCHAM office. If you or a family member is a U.S. taxpayer\, this is your opportunity to learn about any key issues to be aware of for your 2018 year-end tax planning and tax reporting.\n\n\n\nThis year's focus will include developments affecting taxpayers after implementation of the Tax Cuts and Jobs Act of 2017 and changes in the Thai law. \n\n\n\nPresenters are:\n\n\n\nJohn Andes\, Partner\, KPMG in Thailand \n\nJonathan Blaine\, Director\, DFDL Thailand \n\nMatthew Stevens\, Director\, US Global Tax Plan Limited\n\n\n\nWe hope you join us for what is always a lively and interesting discussion.
X-ALT-DESC;FMTTYPE=text/html:The Tax Committee will hold its 2018 annual U.S. Tax Update on December 17 at the AMCHAM office. If you or a family member is a U.S. taxpayer\, this is your opportunity to learn about any key issues to be aware of for your 2018 year-end tax planning and tax reporting.<br />\n<br />\nThis year&#39\;s focus will include developments affecting taxpayers after implementation of the Tax Cuts and Jobs Act of 2017 and changes in the Thai law.&nbsp\;<br />\n<br />\nPresenters are:<br />\n<br />\nJohn Andes\, Partner\, KPMG in Thailand&nbsp\;<br />\nJonathan Blaine\, Director\, DFDL Thailand&nbsp\;<br />\nMatthew Stevens\, Director\, US Global Tax Plan Limited<br />\n<br />\nWe hope you join us for what is always a lively and interesting discussion.
LOCATION:AMCHAM Office\, Citi Boardroom Nearest BTS: Ploenchit
UID:e.3314.109
SEQUENCE:3
DTSTAMP:20260424T012747Z
URL:http://www.connect.amchamthailand.com/events/details/tax-committee-u-s-tax-filing-updates-12-17-2018-109
END:VEVENT

END:VCALENDAR
