BEGIN:VCALENDAR
VERSION:2.0
PRODID:-//ChamberMaster//Event Calendar 2.0//EN
METHOD:PUBLISH
X-PUBLISHED-TTL:P3D
REFRESH-INTERVAL:P3D
CALSCALE:GREGORIAN
BEGIN:VEVENT
DTSTART:20210408T020000Z
DTEND:20210408T030000Z
X-MICROSOFT-CDO-ALLDAYEVENT:FALSE
SUMMARY:Tax Committee: U.S. Tax Filing Updates - For 2020 Tax Year
DESCRIPTION:Throughout the past year\, the U.S. government has passed a series of laws to help stimulate a U.S. economy that has been heavily impacted by the Covid-19 pandemic. The CARES Act passed in March 2020 was followed by the 2021 Reconciliation Act passed in December 2020 and now the American Rescue Plan just signed into the law by President Biden last week. In our 2021 tax update\, the AMCHAM Tax Committee will provide an overview of these laws and will explain how U.S. taxpayers residing in Thailand can benefit from some of the tax relief that is available to them. Join us as we explore some of options that might be available to you.\n\nAbout the Speaker:\n\nMatthew Stevens is Managing Director of Taxation at Global U.S. Tax Plan\, an independent accounting firm helping U.S. citizens throughout Asia remain compliant with U.S. tax code.
X-ALT-DESC;FMTTYPE=text/html:<p>Throughout the past year\, the U.S. government has passed a series of laws to help stimulate a U.S. economy that has been heavily impacted by the Covid-19 pandemic. The&nbsp\;CARES Act passed in March 2020 was followed by the&nbsp\;2021 Reconciliation Act passed in December 2020 and now the&nbsp\;American Rescue Plan just signed into the law by President Biden last week. In our 2021 tax update\, the AMCHAM Tax Committee will provide an overview of these laws and will explain how U.S. taxpayers residing in Thailand can benefit from some of the tax relief that is available to them. Join us as we explore some of options that might be available to you.</p>\n\n<p><strong>About the Speaker:</strong><br color:="" font-size:="" open="" />\n<a 0.3s="" all="" color:="" ease-in-out="" font-size:="" href="https://www.linkedin.com/in/matthew-stevens-aa802582" open="" overflow-wrap:="" text-decoration-line:="" transition:="">Matthew Stevens</a>&nbsp\;is Managing Director of Taxation at Global U.S. Tax Plan\, an independent accounting firm helping U.S. citizens throughout Asia remain compliant with U.S. tax code.&nbsp\;</p>\n
LOCATION:Webinar
UID:e.3314.1890
SEQUENCE:3
DTSTAMP:20260422T011057Z
URL:http://www.connect.amchamthailand.com/events/details/tax-committee-u-s-tax-filing-updates-for-2020-tax-year-1890
END:VEVENT

END:VCALENDAR
