BEGIN:VCALENDAR
VERSION:2.0
PRODID:-//ChamberMaster//Event Calendar 2.0//EN
METHOD:PUBLISH
X-PUBLISHED-TTL:P3D
REFRESH-INTERVAL:P3D
CALSCALE:GREGORIAN
BEGIN:VEVENT
DTSTART:20220329T070000Z
DTEND:20220329T080000Z
X-MICROSOFT-CDO-ALLDAYEVENT:FALSE
SUMMARY:Tax Committee: U.S. Tax Filing Updates - For the 2021 Tax Year
DESCRIPTION:It's that time of year again\, where US citizens around the world must gather their documents\, organize their data\, and crunch the numbers to see how much\, if anything\, they need to pay Uncle Sam. In the annual US Income Tax update\, we'll discuss some of the recent tax laws that have been passed\, the filing deadlines for the upcoming year and other issues that US citizens should be aware of. US citizens and permanent residents\, or persons with US investments or assets\, are encouraged to attend.
X-ALT-DESC;FMTTYPE=text/html:It&rsquo\;s that time of year again\, where US citizens around the world must gather their documents\, organize their data\, and crunch the numbers to see how much\, if anything\, they need to pay Uncle Sam. In the annual US Income Tax update\, we&rsquo\;ll discuss some of the recent tax laws that have been passed\, the filing deadlines for the upcoming year and other issues that US citizens should be aware of. US citizens and permanent residents\, or persons with US investments or assets\, are encouraged to attend.
LOCATION:Video Conference
UID:e.3314.2167
SEQUENCE:3
DTSTAMP:20260421T033700Z
URL:http://www.connect.amchamthailand.com/events/details/tax-committee-u-s-tax-filing-updates-for-the-2021-tax-year-2167
END:VEVENT

END:VCALENDAR
