BEGIN:VCALENDAR
VERSION:2.0
PRODID:-//ChamberMaster//Event Calendar 2.0//EN
METHOD:PUBLISH
X-PUBLISHED-TTL:P3D
REFRESH-INTERVAL:P3D
CALSCALE:GREGORIAN
BEGIN:VEVENT
DTSTART:20231110T020000Z
DTEND:20231110T030000Z
X-MICROSOFT-CDO-ALLDAYEVENT:FALSE
SUMMARY:Tax Committee: US Tax and FATCA Updates Webinar
DESCRIPTION:Over the past several years\, Americans have seen a series of changes to the US Tax Code\, starting with the Tax Cuts and Jobs Act which went into effect in 2018\, to the CARES Act passed in March of 2020\, to the American Rescue Plan Act passed in March of 2021. Since the passage of the Inflation Recovery Act last year\, there have not been any major changes to federal statutes.\n\n \n\nDuring this period\, however\, the US judicial system has been especially active\, issuing rulings that set some very important precedents which US taxpayers should know about.\n\n \n\nIn this year's US tax update\, the AMCHAM Tax Committee will be focusing on some recent case law that can potentially impact U.S. taxpayers doing business in Thailand. Some of the topics that we'll be presenting on include the following:\n\n     The outcome of the SCOTUS ruling regarding FATCA reporting standards.\n\n     IRS ability to issue civil penalties for international information returns.\n\n     Procedures for Passport Certification in case of delinquent US tax debt.\n\n     IRS enforcement of failure to report Foreign Sourced Income and cryptocurrency transactions.\n\n     Implications of a pending SCOTUS case regarding the federal government's ability to tax unrealized income.
X-ALT-DESC;FMTTYPE=text/html:<div>Over the past several years\, Americans have seen a series of changes to the US Tax Code\, starting with the Tax Cuts and Jobs Act which went into effect in 2018\, to the CARES Act passed in March of 2020\, to the American Rescue Plan Act passed in March of 2021. Since the passage of the Inflation Recovery Act last year\, there have not been any major changes to federal statutes.</div>\n\n<div>&nbsp\;</div>\n\n<div>During this period\, however\, the US&nbsp\;judicial system has been especially active\, issuing rulings that set some very important precedents which US&nbsp\;taxpayers should know about.</div>\n\n<div>&nbsp\;</div>\n\n<div>In this year&rsquo\;s US&nbsp\;tax update\, the AMCHAM Tax Committee will be focusing on some recent case law that can potentially impact U.S. taxpayers doing business in Thailand. Some of the topics that we&rsquo\;ll be presenting on include the following:</div>\n\n<div>&nbsp\; &nbsp\;&bull\;<span style="white-space:pre"> </span>The outcome of the SCOTUS ruling regarding FATCA reporting standards.</div>\n\n<div>&nbsp\; &nbsp\;&bull\;<span style="white-space:pre"> </span>IRS ability to issue civil penalties for international information returns.</div>\n\n<div>&nbsp\; &nbsp\;&bull\;<span style="white-space:pre"> </span>Procedures for Passport Certification in case of delinquent US&nbsp\;tax debt.</div>\n\n<div>&nbsp\; &nbsp\;&bull\;<span style="white-space:pre"> </span>IRS enforcement of failure to report Foreign Sourced Income and cryptocurrency transactions.</div>\n\n<div>&nbsp\; &nbsp\;&bull\;<span style="white-space:pre"> </span>Implications of a pending SCOTUS case regarding the federal government&#39\;s ability to tax unrealized income.</div>\n
LOCATION:Webinar
UID:e.3314.2638
SEQUENCE:3
DTSTAMP:20260419T151935Z
URL:http://www.connect.amchamthailand.com/events/details/tax-committee-us-tax-and-fatca-updates-webinar-2638
END:VEVENT

END:VCALENDAR
