BEGIN:VCALENDAR
VERSION:2.0
PRODID:-//ChamberMaster//Event Calendar 2.0//EN
METHOD:PUBLISH
X-PUBLISHED-TTL:P3D
REFRESH-INTERVAL:P3D
CALSCALE:GREGORIAN
BEGIN:VEVENT
DTSTART:20221103T020000Z
DTEND:20221103T030000Z
X-MICROSOFT-CDO-ALLDAYEVENT:FALSE
SUMMARY:Tax Committee: US Tax Updates for the 2022 Tax Year
DESCRIPTION:In the aftermath of the Covid-19 pandemic\, there has been no reduction in filing or disclosure requirements for US persons doing business in Thailand\, nor for Thai persons doing business in the US. With recent legislative and judicial actions\, it is important for all US persons with foreign-sourced income and assets\, and for Thai persons with US-sourced income and assets\, to be informed about their obligations to the US Treasury.\n\n \n\nIn our end-of-year tax update\, the AMCHAM Tax Committee would like to welcome you to discuss topics that impact US taxpayers worldwide. The topics of discussion will include\, but are not limited to\, the following:\n\n	The Inflation Reduction Act\n	The Corporate Transparency Act\n	Updates on FATCA Reporting\n	Court cases that could affect US persons with non-US assets.\n\nJoin us on November 3 to be part of this valuable discussion.
X-ALT-DESC;FMTTYPE=text/html:In the aftermath of the Covid-19 pandemic\, there has been no reduction in filing or disclosure requirements for&nbsp\;US persons doing business in Thailand\, nor for Thai persons doing business in the US. With recent legislative and judicial actions\, it is important for all US persons with foreign-sourced income and assets\, and for Thai persons with US-sourced income and assets\, to be informed about their obligations to the US Treasury.<br />\n&nbsp\;<br />\nIn our end-of-year tax update\, the AMCHAM Tax Committee would like to welcome you to discuss topics that impact US taxpayers worldwide. The topics of discussion will include\, but are not limited to\, the following:\n<ul>\n	<li>The Inflation Reduction Act</li>\n	<li>The Corporate Transparency Act</li>\n	<li>Updates on FATCA Reporting</li>\n	<li>Court cases that could affect US persons with non-US assets.</li>\n</ul>\nJoin us on November 3 to be part of this valuable discussion.<br />\n&nbsp\;
LOCATION:Online Webinar
UID:e.3314.2319
SEQUENCE:3
DTSTAMP:20260420T125937Z
URL:http://www.connect.amchamthailand.com/events/details/tax-committee-us-tax-updates-for-the-2022-tax-year-2319
END:VEVENT

END:VCALENDAR
