BEGIN:VCALENDAR
VERSION:2.0
PRODID:-//ChamberMaster//Event Calendar 2.0//EN
METHOD:PUBLISH
X-PUBLISHED-TTL:P3D
REFRESH-INTERVAL:P3D
CALSCALE:GREGORIAN
BEGIN:VEVENT
DTSTART:20201209T070000Z
DTEND:20201209T080000Z
X-MICROSOFT-CDO-ALLDAYEVENT:FALSE
SUMMARY:Tax Committee: What U.S. Income Taxes May Look Like in 2021
DESCRIPTION:What impact would an incoming Biden administration have on your U.S. tax liability? U.S. taxpayers residing and doing business in Thailand are asking themselves this question as they embark on their year-end tax planning for 2020.\n\n \n\nAt the final Tax Committee event of 2020 for AMCHAM Thailand\, we'll be discussing some of the proposed changes to the US tax code. Some of the issues we'll discuss are:\n\n	What should Individual Taxpayers potentially prepare for?\n	What should Corporate Taxpayers potentially prepare for?\n	How will the proposed changes impact estate planning for U.S. citizens?\n	When can we expect to see a new tax law passed and when will it go into effect?\n\nOur presenters are:\n\n\n	Jonathan Blaine\, Director - Tax\, DFDL Thailand \n	Matthew Stevens\, Director of Taxation\, Global US Tax Plan
X-ALT-DESC;FMTTYPE=text/html:What impact would an incoming Biden administration have on your U.S. tax liability? U.S. taxpayers residing and doing business in Thailand are asking themselves this question as they embark on their year-end tax planning for 2020.<br />\n&nbsp\;<br />\nAt the final Tax Committee event of 2020 for AMCHAM Thailand\, we&#39\;ll be discussing some of the proposed changes to the US tax code. Some of the issues we&#39\;ll discuss are:\n<ul>\n	<li>What should Individual Taxpayers potentially prepare for?</li>\n	<li>What should Corporate Taxpayers potentially prepare for?</li>\n	<li>How will the proposed changes impact estate planning for U.S. citizens?</li>\n	<li>When can we expect to see a new tax law passed and when will it go into effect?</li>\n</ul>\nOur presenters are:\n\n<ul>\n	<li><a href="https://urldefense.proofpoint.com/v2/url?u=https-3A__www.dfdl.com_locations_thailand_thailand-2Dteam_jonathan-2Dblaine_&amp\;d=DwMGaQ&amp\;c=euGZstcaTDllvimEN8b7jXrwqOf-v5A_CdpgnVfiiMM&amp\;r=C1EF_xseCB1gUdgj_PqQm2g829mz_SxTMF4ZHiGoxQI&amp\;m=GU0jXSI_OlbvKLJwcifTrgnHyQ6COXEtYESZa1TdDD8&amp\;s=TUe81VOGvKZCc0L14ghUxINkZcNzdJwCuUXD3s8LgWk&amp\;e=">Jonathan Blaine</a>\,&nbsp\;Director - Tax\, DFDL Thailand&nbsp\;</li>\n	<li><a href="https://urldefense.proofpoint.com/v2/url?u=https-3A__connect.amchamthailand.com_list_Member_u-2Ds-2Dglobal-2Dtax-2Dplan-2Dlimited-2D3422&amp\;d=DwMGaQ&amp\;c=euGZstcaTDllvimEN8b7jXrwqOf-v5A_CdpgnVfiiMM&amp\;r=C1EF_xseCB1gUdgj_PqQm2g829mz_SxTMF4ZHiGoxQI&amp\;m=GU0jXSI_OlbvKLJwcifTrgnHyQ6COXEtYESZa1TdDD8&amp\;s=e_TM2Cnnhbx4p4QgDhfLDJFXmG4gTNcMq7h77te_EHo&amp\;e=">Matthew Stevens</a>\, Director of Taxation\, <span style="font-family:calibri\,sans-serif\;"><span style="font-size:11.0pt\;">Global US Tax Plan</span></span></li>\n</ul>\n
LOCATION:Online Webinar
UID:e.3314.1774
SEQUENCE:3
DTSTAMP:20260422T080415Z
URL:http://www.connect.amchamthailand.com/events/details/tax-committee-what-u-s-income-taxes-may-look-like-in-2021-1774
END:VEVENT

END:VCALENDAR
