BEGIN:VCALENDAR
VERSION:2.0
PRODID:-//ChamberMaster//Event Calendar 2.0//EN
METHOD:PUBLISH
X-PUBLISHED-TTL:P3D
REFRESH-INTERVAL:P3D
CALSCALE:GREGORIAN
BEGIN:VEVENT
DTSTART:20200407T030000Z
DTEND:20200407T043000Z
X-MICROSOFT-CDO-ALLDAYEVENT:FALSE
SUMMARY:Tax Webinar: U.S. Tax Filing Updates
DESCRIPTION:Online registrations for this event are closed\, but AMCHAM member may request an invitation to join the meeting by contacting sarawan@amchamthailand.com before April 7th.\n\n\n\nThe US Treasury Department and IRS has delayed Federal Tax Day from April 15 to July 15\, meaning that federal income tax filing and payments for 2019\, as well as Q1 2020 quarterly payments are now due on July 15.\n\n\n\nThis webinar will walk U.S. taxpayers through relevant U.S. tax filing updates with a specific look at tax relief possibilities for those affected by the covid-19 outbreak.  A generous portion of the time will be set aside for Q&A\, and we encourage participants to submit questions beforehand to sarawan@amchamthailand.com.\n\n\n\nAbout the Speaker:\n\nMatthew Stevens is Director of Taxation at Global U.S. Tax Plan\, an independent accounting firm helping U.S. citizens throughout Asia remain compliant with U.S. tax code.
X-ALT-DESC;FMTTYPE=text/html:<strong>Online registrations for this event are closed\, but AMCHAM member may request an invitation to join the meeting by contacting sarawan@amchamthailand.com before April 7th.</strong><br />\n<br />\nThe US Treasury Department and IRS has&nbsp\;<a href="https://home.treasury.gov/news/press-releases/sm953">delayed Federal Tax Day from April 15 to July 15</a>\, meaning that federal income tax filing and payments for 2019\, as well as Q1 2020 quarterly payments are now due on July 15.<br />\n<br />\nThis webinar will walk U.S. taxpayers through relevant U.S. tax filing updates with a specific look at tax relief possibilities for those affected by the covid-19 outbreak.&nbsp\; A generous portion of the time will be set aside for Q&amp\;A\, and we encourage participants to submit questions beforehand to sarawan@amchamthailand.com.<br />\n<br />\n<strong>About the Speaker:</strong><br />\n<a href="https://www.linkedin.com/in/matthew-stevens-aa802582">Matthew Stevens</a>&nbsp\;is Director of Taxation at Global U.S. Tax Plan\, an independent accounting firm helping U.S. citizens throughout Asia remain compliant with U.S. tax code.&nbsp\;<br />\n&nbsp\;
LOCATION:Online Webinar
UID:e.3314.1581
SEQUENCE:3
DTSTAMP:20260422T222320Z
URL:http://www.connect.amchamthailand.com/events/details/tax-webinar-u-s-tax-filing-updates-1581
END:VEVENT

END:VCALENDAR
