BEGIN:VCALENDAR
VERSION:2.0
PRODID:-//ChamberMaster//Event Calendar 2.0//EN
METHOD:PUBLISH
X-PUBLISHED-TTL:P3D
REFRESH-INTERVAL:P3D
CALSCALE:GREGORIAN
BEGIN:VEVENT
DTSTART:20210423T030000Z
DTEND:20210423T040000Z
X-MICROSOFT-CDO-ALLDAYEVENT:FALSE
SUMMARY:Auto Council: Industry Update 2021
DESCRIPTION:Please join the Auto Council for a briefing on Thailand's electrification strategy and vision\, based on the latest policy developments and the recent announcement by the National Electric Vehicle Policy Committee (NEVPC). The council will also discuss "Policy Options for Addressing PM2.5 Issues in the Automotive Industry and Transport Sector"   a study by Thailand Development Research Institute (TDRI).\n\n\n\nAbout speaker\n\nArnupab Tadpitakkul\, Government Affairs Director\, Ford Motor Company (Thailand) Co.\, Ltd. He has joined Ford Motor since 2003.\nHe also serves as Vice President of the Thai Automotive Industry Association (TAIA) and Vice Chair of the Automotive Industry Club (AIC) of the Federation of Thai Industries (FTI).
X-ALT-DESC;FMTTYPE=text/html:Please join the Auto Council for a briefing on&nbsp\;Thailand&rsquo\;s electrification strategy and vision\, based on the latest policy developments and the recent announcement by the National Electric Vehicle Policy Committee (NEVPC). The council will also discuss &ldquo\;Policy Options for Addressing PM2.5 Issues in the Automotive Industry and Transport Sector&rdquo\; &ndash\; a study by Thailand Development Research Institute (TDRI).<br />\n<br />\n<u><strong>About speaker</strong></u><br />\nArnupab Tadpitakkul\, Government Affairs Director\,&nbsp\;Ford Motor Company (Thailand) Co.\, Ltd. He has joined Ford Motor since 2003.\n<p>He also serves as Vice President of the Thai Automotive Industry Association (TAIA) and Vice Chair of the Automotive Industry Club (AIC) of the Federation of Thai Industries (FTI).</p>\n
LOCATION:Video conference
UID:e.3314.1889
SEQUENCE:3
DTSTAMP:20260422T010612Z
URL:http://www.connect.amchamthailand.com/events/details/tbc-auto-council-industry-update-2021-1889
END:VEVENT

END:VCALENDAR
