BEGIN:VCALENDAR
VERSION:2.0
PRODID:-//ChamberMaster//Event Calendar 2.0//EN
METHOD:PUBLISH
X-PUBLISHED-TTL:P3D
REFRESH-INTERVAL:P3D
CALSCALE:GREGORIAN
BEGIN:VEVENT
DTSTART:20211126T110000Z
DTEND:20211126T140000Z
X-MICROSOFT-CDO-ALLDAYEVENT:FALSE
SUMMARY:Joint Chambers Phuket Sundowners hosted by AustCham
DESCRIPTION:REGISTER NOW\n\nAustCham Thailand\, in collaboration with Australian Alumni\, American Chamber of Commerce in Thailand (AMCHAM)\, British Chamber of Commerce Thailand (BCCT)\, Belgian-Luxembourg/Thai Chamber of Commerce\, CanCham Thailand\, Franco-Thai Chamber of Commerce (FTCC)\, German-Thai Chamber of Commerce (GTCC) and the Netherlands-Thai Chamber of Commerce (NTCC)\, is delighted to invite you to join us for "Phuket Sundowners" at SAii Laguna Phuket\, on Friday 26 November 2021\, from 18.00-21.00 hrs.\n\n*Please note that the attendees will be asked for their COVID-19 vaccination or ATK / RT-PCR certification to show on entry to the event*
X-ALT-DESC;FMTTYPE=text/html:<p><a href="https://www.austchamthailand.com/event/26-nov-joint-chambers-phuket-sundowners-hosted-by-austcham/"><span style="font-size:16px\;"><span style="font-family:arial\;"><strong><span style="color:#000080\;">REGISTER NOW</span></strong></span></span></a></p>\n\n<p>AustCham Thailand\, in collaboration with Australian Alumni\, American Chamber of Commerce in Thailand (AMCHAM)\,&nbsp\;British Chamber of Commerce Thailand (BCCT)\, Belgian-Luxembourg/Thai Chamber of Commerce\, CanCham Thailand\, Franco-Thai Chamber of Commerce (FTCC)\, German-Thai Chamber of Commerce (GTCC) and the Netherlands-Thai Chamber of Commerce (NTCC)\,&nbsp\;is delighted to invite you to join us for &ldquo\;Phuket Sundowners&rdquo\; at&nbsp\;SAii Laguna Phuket\, on Friday 26 November 2021\, from 18.00-21.00 hrs.</p>\n\n<p><em>*Please note that the attendees will be asked for their COVID-19 vaccination or ATK / RT-PCR certification to show on entry to the event*</em></p>\n
LOCATION:SAii Laguna Phuket
UID:e.3314.2091
SEQUENCE:3
DTSTAMP:20260421T122433Z
URL:http://www.connect.amchamthailand.com/events/details/tbc-joint-chambers-phuket-sundowners-hosted-by-austcham-2091
END:VEVENT

END:VCALENDAR
