BEGIN:VCALENDAR
VERSION:2.0
PRODID:-//ChamberMaster//Event Calendar 2.0//EN
METHOD:PUBLISH
X-PUBLISHED-TTL:P3D
REFRESH-INTERVAL:P3D
CALSCALE:GREGORIAN
BEGIN:VEVENT
DTSTART:20200428T120000Z
DTEND:20200428T130000Z
X-MICROSOFT-CDO-ALLDAYEVENT:FALSE
SUMMARY:Thailand's Response to COVID-19
DESCRIPTION:The U.S. Chamber of Commerce\, Southeast Asia Program invites you to an off-the-record discussion with Ambassador DeSombre\, as he shares an update on Thailand's economy\, given the COVID-19 crisis\, the Embassy's new priorities in the country\, and answers questions from the audience.\n\n\n\nMichael George DeSombre\n\nUnited States Ambassador to the Kingdom of Thailand\n\n\n\nOn January 8\, 2020\, the Senate confirmed the nomination of Michael George DeSombre to serve as U.S. ambassador to Thailand. Mr. DeSombre was formerly a partner in the law firm of Sullivan and Cromwell\, having led their mergers and acquisition practice in Asia\, where he has been a resident for over 20 years.\n\n\n\n Mr. DeSombre has a B.A. in Quantitative Economics and an M.A. in East Asian Studies from Stanford University\, where he was a Phi Beta Kappa scholar.  He graduated from Harvard Law School magna cum laude in 1995 and received the Reginald F. Lewis Prize in International Business Law. Mr. DeSombre is fluent in Mandarin Chinese and speaks some Korean and Japanese.\n\n\n\n RSVP at http://www.cvent.com/d/pnqvjt\n\n\n\nPlease contact Javiera Gallardo at jgallardo@uschamber.com with any questions.
X-ALT-DESC;FMTTYPE=text/html:<div>\n<p>The U.S. Chamber of Commerce\, Southeast Asia Program invites you to an off-the-record discussion&nbsp\;with Ambassador DeSombre\, as he shares an update on Thailand&#39\;s economy\, given the COVID-19 crisis\, the Embassy&#39\;s new priorities in the country\, and answers questions from the audience.</p>\n</div>\n\n<div>\n<p><strong>Michael George DeSombre<br />\nUnited States Ambassador to the Kingdom of Thailand</strong></p>\n</div>\n\n<div>\n<p>On January 8\, 2020\, the Senate confirmed the nomination of Michael George DeSombre to serve as U.S. ambassador to Thailand. Mr. DeSombre was formerly a partner in the law firm of Sullivan and Cromwell\, having led their mergers and acquisition practice in Asia\, where he has been a resident for over 20 years.</p>\n</div>\n\n<div>\n<p>&nbsp\;Mr. DeSombre has a B.A. in Quantitative Economics and an M.A. in East Asian Studies from Stanford University\, where he was a Phi Beta Kappa scholar. &nbsp\;He graduated from Harvard Law School magna cum laude in 1995 and received the Reginald F. Lewis Prize in International Business Law. Mr. DeSombre is fluent in Mandarin Chinese and speaks some Korean and Japanese.<br />\n<br />\n&#8203\;RSVP at&nbsp\;<a data-auth="NotApplicable" href="http://www.cvent.com/d/pnqvjt" rel="noopener noreferrer" target="_blank">http://www.cvent.com/d/pnqvjt</a><br />\n<br />\nPlease contact Javiera Gallardo at&nbsp\;<a data-auth="NotApplicable" href="https://t.e2ma.net/click/t4h3fg/lat99m/t0aj0fb" rel="noopener noreferrer" target="_blank">jgallardo@uschamber.com</a>&nbsp\;with any questions.</p>\n</div>\n
LOCATION:Video Conference
UID:e.3314.1598
SEQUENCE:3
DTSTAMP:20260422T222100Z
URL:http://www.connect.amchamthailand.com/events/details/thailand-s-response-to-covid-19-1598
END:VEVENT

END:VCALENDAR
