BEGIN:VCALENDAR
VERSION:2.0
PRODID:-//ChamberMaster//Event Calendar 2.0//EN
METHOD:PUBLISH
X-PUBLISHED-TTL:P3D
REFRESH-INTERVAL:P3D
CALSCALE:GREGORIAN
BEGIN:VEVENT
DTSTART:20200120T080000Z
DTEND:20200120T123000Z
X-MICROSOFT-CDO-ALLDAYEVENT:FALSE
SUMMARY:Thailand Tourism Forum 2020
DESCRIPTION:TTF 2020 IS BOOKED TO CAPACITY AND REGISTRATION IS NOW CLOSED.\n\n\n\nThailand Tourism Forum 2020   'The Big Bang   Epic Ideas\, Scorekeeping and Straight Talk' \n\nWith the Thailand tourism storyline focused on the great chase for the elusive mass metric of 40 million visitors\, 2019 has seen a volatile marketplace\, not only in the country\, but across the region and the globe. The upcoming Thailand Tourism Forum (TTF) 2020   Ninth Edition is a unique opportunity at the beginning of the year to take a deep dive into the country's hospitality universe.\n\n \n\nWelcome to The Big Bang\, where disruption has become the biggest threat and opportunity to one of Thailand's key contributors to GDP. Join us for a candid and lively debates on critical issues facing tourism\, from the China slowdown\, the strong Thai Baht and rising competition across Southeast Asia to wide-ranging expansion plans for mega projects and transportation. Raging bulls\, future talk and meeting the next generation of Thailand's hotel industry - fast\, furious and in your face are the touchstones for Thailand Tourism Forum 2020.\n\n \n\nTTF 2020 is a Thailand-focused hotel and tourism event with a pulse\, that aims to not talk at you\, but with you. Set to take place on Monday 20th January 2020 at the InterContinental Hotel Bangkok\, over 1\,000 participants are expected to gather for the country's largest industry event. \n\n \n\nPresentations will include:\n\n\n\n'Major Tom and the Big Bang'\n\nBill Barnett\, Managing Director\, C9 Hotelworks \n\n\n\n'BANG BANG' \n\nNikhom Jensiriratanakorn\, Director\, Horwath HTL\n\n \n\n'The New Thai Luxury'\n\nLeanne Reddie\, Director of Sales and Marketing\, Rosewood Bangkok\n\n \n\n'BANG BANG' \n\nPawinee Chaisiriroj\, Senior Manager\, HVS\n\n \n\n'In the Year 2050   Beyond the Box'\n\nBill Bensley\, Creative Director\, BENSLEY\n\n \n\n'Big Daddy\, Big Data'\n\nJesper Palmqvist\, Area Director   Asia Pacific\, STR\n\nEric Ricaurte\, Founder & CEO\, Greenview\n\n \n\n'BANG BANG' \n\nKavi Kirpalani\, Manager - Feasibility APAC\, The Standard Hotels\n\n \n\n'Mindy's 24 Hours - Co-Living\, Co-Working' \n\nMindy Teo\, Deputy Managing Director\, lyf - The Ascott Limited\n\n \n\n'Buy\, Sell\, Hold   Hotel Deal Street'\n\nPaul Chakkrit\, EVP - Investment Sales\, Asia\, JLL Hotels & Hospitality Group\n\n \n\n'BANG BANG' \n\nA-care Paepipatmongkol\, Innovation Project Manager   Fuchsia Muang Thai Life Assurance\n\n \n\n'Eye Candy in Digital Instagram Thailand'\n\nDavid Keen\, CEO\, QUO\n\nCatherine Monthienvichienchai\, Chief Branding Officer\, QUO\n\n \n\n'BANG BANG' \n\nBonn Paramacharoen\, Associate Director of Business Development\, YOO Worldwide\n\n \n\n'Up-county with an OTA'\n\nChoo Pin Ang\, Senior Director\, Government and Corporate Affairs\, Asia at Expedia Group\n\n \n\n'BANG BANG' \n\nNantachatr Yampandh\, Investment Analyst\, GCP Hospitality\n\n \n\n'The Tribe Speaks   Crowdsourcing'\n\nEric Levy\, Managing Director\, Tourism Solutions International (TSI)\n\nSamantha Proyrungtong\, Director\, Extrovert Marketing\n\n \n\n'BANG BANG' \n\nEddie Choosang\, Associate Director\, Head of CBRE Hotels Thailand\, CBRE Thailand\n\n \n\n'Hotel Development Nightmares'\n\nChris Pucher\, Senior Director of Development Asia\, Hilton International\n\nKaran Kaul\, Assistant Vice President - Development\, Langham Hospitality Group\n\n \n\n'BANG BANG' \n\nSirin Sattatips\, Business Development Executive\, The Ascott Limited\n\n \n\n'Guru'\n\nRobert V. R. Hecker\, Managing Director-Pacific Asia\, Horwath HTL\n\n \n\n'BANG BANG' \n\nSaowarin Chanprakaisi\, Sn. Manager   Development SEAK\, InterContinental Hotels Group\n\n \n\n'Death of the Millennial'\n\nWimintra Raj\, Founder and Editor in Chief\, HotelIntel.co\n\n \n\n'BANG BANG' \n\nNattaporn Kaewviyudth\, Director   Development\, Onyx Hospitality Group\n\n \n\n'Last Call'\n\nBill Barnett\, Managing Director\, C9 Hotelworks
X-ALT-DESC;FMTTYPE=text/html:<span style="color:#B22222\;"><strong>TTF 2020 IS BOOKED TO CAPACITY AND REGISTRATION IS NOW CLOSED.</strong></span><br />\n<br />\n<strong>Thailand Tourism Forum 2020</strong> &ndash\; &lsquo\;<strong><em>The Big Bang &ndash\; Epic Ideas\, Scorekeeping and Straight Talk&rsquo\; </em></strong><br />\nWith the Thailand tourism storyline focused on the great chase for the elusive mass metric of 40 million visitors\, 2019 has seen a volatile marketplace\, not only in the country\, but across the region and the globe. The upcoming Thailand Tourism Forum (TTF) 2020 &ndash\; Ninth Edition is a unique opportunity at the beginning of the year to take a deep dive into the country&rsquo\;s hospitality universe.<br />\n&nbsp\;<br />\n<strong>Welcome to The Big Bang</strong>\, where disruption has become the biggest threat and opportunity to one of Thailand&rsquo\;s key contributors to GDP. Join us for a candid and lively debates on critical issues facing tourism\, from the China slowdown\, the strong Thai Baht and rising competition across Southeast Asia to wide-ranging expansion plans for mega projects and transportation.&nbsp\;Raging bulls\, future talk and meeting the next generation of Thailand&rsquo\;s hotel industry&nbsp\;- fast\, furious and in your face&nbsp\;are the touchstones for Thailand Tourism Forum 2020.<br />\n&nbsp\;<br />\n<em>TTF 2020 is a Thailand-focused hotel and tourism event with a pulse\, that aims to not talk at you\, but with you. Set to take place on Monday 20<sup>th</sup> January 2020 at the InterContinental Hotel Bangkok\, over 1\,000 participants are expected to gather for the country&rsquo\;s largest industry event. </em><br />\n&nbsp\;<br />\nPresentations will include:<br />\n<br />\n<strong><u>&lsquo\;</u></strong><strong><u>Major Tom and the Big Bang</u></strong><strong><u>&rsquo\;</u></strong><br />\n<strong>Bill Barnett\, </strong>Managing Director\, C9 Hotelworks&nbsp\;<br />\n<br />\n<strong><u>&lsquo\;BANG BANG&rsquo\; </u></strong><br />\n<strong>Nikhom Jensiriratanakorn</strong>\, Director\, Horwath HTL<br />\n&nbsp\;<br />\n<strong><u>&lsquo\;The New Thai Luxury&rsquo\;</u></strong><br />\n<strong>Leanne Reddie\, </strong>Director of Sales and Marketing\, Rosewood Bangkok<br />\n&nbsp\;<br />\n<strong><u>&lsquo\;BANG BANG&rsquo\; </u></strong><br />\n<strong>Pawinee Chaisiriroj\,</strong> Senior Manager\, HVS<br />\n&nbsp\;<br />\n<strong><u>&lsquo\;In the Year 2050 &ndash\; Beyond the Box&rsquo\;</u></strong><br />\n<strong>Bill Bensley</strong>\, Creative Director\, BENSLEY<br />\n&nbsp\;<br />\n<strong><u>&lsquo\;Big Daddy\, Big Data&rsquo\;</u></strong><br />\n<strong>Jesper Palmqvist\, </strong>Area Director &ndash\; Asia Pacific\, STR<br />\n<strong>Eric Ricaurte</strong>\, Founder &amp\; CEO\, Greenview<br />\n&nbsp\;<br />\n<u><strong>&lsquo\;BANG BANG&rsquo\; </strong></u><br />\n<strong>Kavi Kirpalani</strong>\, Manager - Feasibility APAC\, The Standard Hotels<br />\n&nbsp\;<br />\n<strong><u>&lsquo\;Mindy&rsquo\;s 24 Hours - Co-Living\, Co-Working&rsquo\; </u></strong><br />\n<strong>Mindy Teo\, </strong>Deputy Managing Director\, lyf - The Ascott Limited<br />\n&nbsp\;<br />\n<strong><u>&lsquo\;Buy\, Sell\, Hold &ndash\; Hotel Deal Street&rsquo\;</u></strong><br />\n<strong>Paul Chakkrit\, </strong>EVP - Investment Sales\, Asia\, JLL Hotels &amp\; Hospitality Group<br />\n&nbsp\;<br />\n<strong><u>&lsquo\;BANG BANG&rsquo\; </u></strong><br />\n<strong><u>A-care Paepipatmongkol\, </u></strong>Innovation Project Manager &ndash\; Fuchsia Muang Thai Life Assurance<br />\n&nbsp\;<br />\n<strong><u>&lsquo\;Eye Candy in Digital Instagram Thailand&rsquo\;</u></strong><br />\n<strong>David Keen\, </strong>CEO\, QUO<br />\n<strong>Catherine Monthienvichienchai\, </strong>Chief Branding Officer\, QUO<br />\n&nbsp\;<br />\n<strong><u>&lsquo\;BANG BANG&rsquo\; </u></strong><br />\n<strong>Bonn Paramacharoen\, </strong>Associate Director of Business Development\, YOO Worldwide<br />\n&nbsp\;<br />\n<strong><u>&lsquo\;Up-county with an OTA&rsquo\;</u></strong><br />\n<strong>Choo Pin Ang\, </strong>Senior Director\, Government and Corporate Affairs\, Asia at Expedia Group<br />\n&nbsp\;<br />\n<strong><u>&lsquo\;BANG BANG&rsquo\; </u></strong><br />\n<strong>Nantachatr Yampandh\,</strong> Investment Analyst\, GCP Hospitality<br />\n&nbsp\;<br />\n<strong><u>&lsquo\;The Tribe Speaks &ndash\; Crowdsourcing&rsquo\;</u></strong><br />\n<strong>Eric Levy\, </strong>Managing Director\, Tourism Solutions International (TSI)<br />\n<strong>Samantha Proyrungtong\,</strong> Director\, Extrovert Marketing<br />\n&nbsp\;<br />\n<strong><u>&lsquo\;BANG BANG&rsquo\; </u></strong><br />\n<strong>Eddie Choosang</strong>\, Associate Director\, Head of CBRE Hotels Thailand\, CBRE Thailand<br />\n&nbsp\;<br />\n<strong><u>&lsquo\;Hotel Development Nightmares&rsquo\;</u></strong><br />\n<strong>Chris Pucher\, </strong>Senior Director of Development Asia\, Hilton International<br />\n<strong>Karan Kaul\, </strong>Assistant Vice President - Development\, Langham Hospitality Group<br />\n&nbsp\;<br />\n<strong><u>&lsquo\;BANG BANG&rsquo\; </u></strong><br />\n<strong>Sirin Sattatips\,</strong> Business Development Executive\, The Ascott Limited<br />\n&nbsp\;<br />\n<strong><u>&lsquo\;Guru&rsquo\;</u></strong><br />\n<strong>Robert V. R. Hecker\, </strong>Managing Director-Pacific Asia\, Horwath HTL<br />\n&nbsp\;<br />\n<strong><u>&lsquo\;BANG BANG&rsquo\; </u></strong><br />\n<strong>Saowarin Chanprakaisi</strong>\, Sn. Manager &ndash\; Development SEAK\, InterContinental Hotels Group<br />\n&nbsp\;<br />\n<strong><u>&lsquo\;Death of the Millennial&rsquo\;</u></strong><br />\n<strong>Wimintra Raj\, </strong>Founder and Editor in Chief\, HotelIntel.co<br />\n&nbsp\;<br />\n<strong>&lsquo\;BANG BANG&rsquo\; </strong><br />\n<strong>Nattaporn Kaewviyudth\, </strong>Director &ndash\; Development\, Onyx Hospitality Group<br />\n&nbsp\;<br />\n<strong><u>&lsquo\;Last Call&rsquo\;</u></strong><br />\n<strong>Bill Barnett\, </strong>Managing Director\, C9 Hotelworks&nbsp\;<br />\n&nbsp\;<br />\n&nbsp\;<br />\n<br />\n&nbsp\;<br />\n&nbsp\;<br />\n<br />\n&nbsp\;<br />\n&nbsp\;
LOCATION:InterContinental Hotel\, Grand Ballroom\, Level 4 Nearest BTS: Chitlom
UID:e.3314.453
SEQUENCE:3
DTSTAMP:20260423T035503Z
URL:http://www.connect.amchamthailand.com/events/details/thailand-tourism-forum-2020-453
END:VEVENT

END:VCALENDAR
