BEGIN:VCALENDAR
VERSION:2.0
PRODID:-//ChamberMaster//Event Calendar 2.0//EN
METHOD:PUBLISH
X-PUBLISHED-TTL:P3D
REFRESH-INTERVAL:P3D
CALSCALE:GREGORIAN
BEGIN:VEVENT
DTSTART:20230116T070000Z
DTEND:20230116T104500Z
X-MICROSOFT-CDO-ALLDAYEVENT:FALSE
SUMMARY:Thailand Tourism Forum 2023 - 12th Annual Edition
DESCRIPTION:Please be advised that this function is a partner event with an external organizer. The registration link will send you away from the AMCHAM website to the website of the organizer.  Please be advised that the organizer may not have the same data protection\, event cancellation policies or Covid-19 safety protocol as AMCHAM Thailand.\n\n\n\nREGISTER NOW\n\n \nAMCHAM Thailand\, in collaboration with Horwath HTL\, STR\, JLL Hotels and Hospitality\, QUO\, Delivering Asia Communications \, Creative Concept AV\, Phuket Hotels Association is delighted to invite you to join us for Thailand Tourism Forum 2023 12th Annual Edition at Conrad Hotel Bangkok\n\n\n\nEvent Schedule\n\n2:00 pm : Registration \n\n3:00 pm : Prequel   Hospitality Innovation Tech Pitch Competition\n\n4 :00 pm : Thailand Tourism Forum 2023\n\n5:30 pm :  Networking Cocktails   with compliments of Hilton\n\n\n\nAGENDA\;\n\n\n\nWhy Thailand Hospitality Must Innovate\n\nBill Barnett\, Managing Director\, C9 Hotelworks\n\nCreating a New Hospitality Landscape with Brands\n\nWallapa Traisorat\, Chief Executive Officer and President\, Asset World Corporation\n\n(Moderator) David Johnson\, CEO\, Delivering Asia Communications\n\nDisruption and Change in Hotel Technology and Distribution\n\nLiz Perkins\, Vice President - Revenue Management and Commercial Services APAC\, Hilton\n\n(Moderator) Charles Blocker\, CEO\, IC Partners Limited\n\nThai Hospitality - Culture\, Design\, Legacy and Now Reinvention\n\nHo Ren Yung\, Senior Vice President   Brand and Commercial\, Banyan Tree Group\n\n(Moderator) Sumi Soorian\, Executive Director\, Phuket Hotels Association\n\nReady\, Set\, Go (Wait) - How Competitive Are Thai Hotels?\n\nJesper Palmqvist\, Senior Director   Asia Pacific\, STR\n\nChallenges and Changes in Being a Hotel Owner\n\nProudputh Liptapanlop\, Executive Director\, Proud Real Estate PLC\n\n(Moderator) Nikhom Jensiriratanakorn\, Director\, Horwath HTL\n\nThailand Hotel Transaction Market Update and Financing\n\nChakkrit Chakrabandhu Na Ayudhya\, Head of Thailand Investment Sales and EVP - Asia\, JLL Hotels & Hospitality Group\n\nBrand Thailand Meets ESG\, Hello Crunch Time\n\nCatherine Monthienvichienchai\, Chief Branding Officer\, QUO Global\n\nChanging Paradigms in Thai Tourism - A Look Ahead\n\nPrab Thakral\, President and Group CEO\, Boutique Corporation PCL\n\n(Moderator) TBC\n\nWhat is the Hotel of the Future?\n\nEric Ricaurte\, Founder and CEO\, Greenview\n\nWrap Up   The Biggest Bang\n\nEvent Co-Hosts\n\nBonn Krongsak Paramacharoenroj\, Country Manager\, ONDA Thailand\n\nNida Wongphanlert\, Managing Owner\, 137 Pillars Hotels & Resorts
X-ALT-DESC;FMTTYPE=text/html:Please be advised that this function is a partner event with an external organizer. The registration link will send you away from the AMCHAM website to the website of the organizer.&#8203\; Please be advised that the organizer may not have the same data protection\, event cancellation policies or Covid-19 safety protocol as AMCHAM Thailand.<br />\n<br />\n<span style="font-size:16px\;"><strong><a href="https://www.eventbrite.com/e/thailand-tourism-forum-2023-12th-annual-edition-tickets-466194970707">REGISTER NOW</a></strong></span><br />\n&nbsp\;\n<p>AMCHAM Thailand\, in collaboration with&nbsp\;Horwath HTL\, STR\, JLL Hotels and Hospitality\, QUO\, Delivering Asia Communications \, Creative Concept AV\, Phuket Hotels Association&nbsp\;is delighted to invite you to join us for&nbsp\;Thailand Tourism Forum 2023&nbsp\;12th Annual Edition at Conrad Hotel Bangkok<br />\n<br />\n<strong>Event Schedule</strong></p>\n\n<p helvetica="" neue="">2:00 pm : Registration&nbsp\;<br />\n3:00 pm : Prequel &ndash\; Hospitality Innovation Tech Pitch Competition<br />\n4&#65279\;:00 pm :&nbsp\;Thailand Tourism Forum 2023<br />\n5:30 pm :&nbsp\; Networking Cocktails &ndash\; with compliments of Hilton<br />\n<br />\n<span style="font-size:16px\;"><strong>AGENDA\;</strong></span><br />\n<br />\n<strong>Why Thailand Hospitality Must Innovate</strong><br />\nBill Barnett\, Managing Director\, C9 Hotelworks</p>\n\n<p><strong>Creating a New Hospitality Landscape with Brands</strong><br />\nWallapa Traisorat\, Chief Executive Officer and President\, Asset World Corporation<br />\n(Moderator)&nbsp\;David Johnson\, CEO\, Delivering Asia Communications</p>\n\n<p><strong>Disruption and Change in Hotel Technology and Distribution</strong><br />\nLiz Perkins\, Vice President - Revenue Management and Commercial Services APAC\, Hilton<br />\n(Moderator)&nbsp\;Charles Blocker\, CEO\, IC Partners Limited</p>\n\n<p><strong>Thai Hospitality - Culture\, Design\, Legacy and Now Reinvention</strong><br />\nHo Ren Yung\, Senior Vice President &ndash\; Brand and Commercial\, Banyan Tree Group<br />\n(Moderator)&nbsp\;Sumi Soorian\, Executive Director\, Phuket Hotels Association</p>\n\n<p><strong>Ready\, Set\, Go (Wait) - How Competitive Are Thai Hotels?</strong><br />\nJesper Palmqvist\, Senior Director &ndash\; Asia Pacific\, STR</p>\n\n<p><strong>Challenges and Changes in Being a Hotel Owner</strong><br />\nProudputh Liptapanlop\, Executive Director\, Proud Real Estate PLC<br />\n(Moderator)&nbsp\;Nikhom Jensiriratanakorn\, Director\, Horwath HTL</p>\n\n<p><strong>Thailand Hotel Transaction Market Update and Financing</strong><br />\nChakkrit Chakrabandhu Na Ayudhya\, Head of Thailand Investment Sales and EVP - Asia\, JLL Hotels &amp\; Hospitality Group</p>\n\n<p><strong>Brand Thailand Meets ESG\, Hello Crunch Time</strong><br />\nCatherine Monthienvichienchai\, Chief Branding Officer\, QUO Global</p>\n\n<p><strong>Changing Paradigms in Thai Tourism - A Look Ahead</strong><br />\nPrab Thakral\, President and Group CEO\, Boutique Corporation PCL<br />\n(Moderator) TBC</p>\n\n<p><strong>What is the Hotel of the Future?</strong><br />\nEric Ricaurte\, Founder and CEO\, Greenview</p>\n\n<p><strong>Wrap Up &ndash\; The Biggest Bang</strong></p>\n\n<p><strong>Event Co-Hosts</strong><br />\nBonn Krongsak Paramacharoenroj\, Country Manager\, ONDA Thailand<br />\nNida Wongphanlert\, Managing Owner\, 137 Pillars Hotels &amp\; Resorts</p>\n\n<p>&nbsp\;</p>\n\n<p><br />\n&nbsp\;</p>\n
LOCATION:Conrad Hotel Bangkok
UID:e.3314.2278
SEQUENCE:3
DTSTAMP:20260420T111303Z
URL:http://www.connect.amchamthailand.com/events/details/thailand-tourism-forum-2023-12th-annual-edition-2278
END:VEVENT

END:VCALENDAR
