BEGIN:VCALENDAR
VERSION:2.0
PRODID:-//ChamberMaster//Event Calendar 2.0//EN
METHOD:PUBLISH
X-PUBLISHED-TTL:P3D
REFRESH-INTERVAL:P3D
CALSCALE:GREGORIAN
BEGIN:VEVENT
DTSTART:20210519T030000Z
DTEND:20210519T040000Z
X-MICROSOFT-CDO-ALLDAYEVENT:FALSE
SUMMARY:The AMCHAM Insight Exchange
DESCRIPTION:Please join us for our AMCHAM Insight Exchange Online\, a focused business development and networking video conference where you can meet other AMCHAM members to connect\, brainstorm solutions\, and identify new opportunities.\n\n \n\nThe event kicks off with a brisk round of introductions\, where members present themselves\, their company\, and share a question or request for the others present. Following the general discussion\, members will join smaller breakout groups to discuss solutions and ideas. Contacts will be shared after the meeting to allow members to build further on the connections that you have made and the conversations that you have started.\n\n \n\nAMCHAM Executive Director Heidi Gallant and team will be present in each breakout room to moderate the discussion\, along with members of the AMCHAM Board of Governors.\n\n \n\nPlease Note:\n\n\n	Only AMCHAM members may register. Spaces are limited to 20 guests\, one representative per company.\n	Attendance is free\, however there is a cancellation charge for any cancellation received after Tuesday\, May 18.
X-ALT-DESC;FMTTYPE=text/html:<p><span style="color:#000000\;">Please join us for our AMCHAM Insight Exchange Online\, a focused business development and networking video conference where you can meet other AMCHAM members to connect\, brainstorm solutions\, and identify new opportunities.<br />\n&nbsp\;<br />\nThe event kicks off with a brisk round of introductions\, where members present themselves\, their company\, and share a question or request for the others present. Following the general discussion\, members will join smaller breakout groups to discuss solutions and ideas. Contacts will be shared after the meeting to allow members to build further on the connections that you have made and the conversations that you have started.<br />\n&nbsp\;<br />\nAMCHAM Executive Director Heidi Gallant and team will be present in each breakout room to moderate the discussion\, along with members of the AMCHAM Board of Governors.<br />\n&nbsp\;<br />\n<strong>Please Note</strong>:</span></p>\n\n<ul>\n	<li><span style="color:#000000\;">Only AMCHAM members may register. Spaces are limited to 20 guests\, one representative per company.</span></li>\n	<li><span style="color:#000000\;">Attendance is free\, however there is a cancellation charge for any cancellation received after Tuesday\,&nbsp\;May 18.&nbsp\;</span></li>\n</ul>\n
LOCATION:Online Videoconference
UID:e.3314.1901
SEQUENCE:3
DTSTAMP:20260421T231310Z
URL:http://www.connect.amchamthailand.com/events/details/the-amcham-insight-exchange-05-19-2021-1901
END:VEVENT

END:VCALENDAR
