BEGIN:VCALENDAR
VERSION:2.0
PRODID:-//ChamberMaster//Event Calendar 2.0//EN
METHOD:PUBLISH
X-PUBLISHED-TTL:P3D
REFRESH-INTERVAL:P3D
CALSCALE:GREGORIAN
BEGIN:VEVENT
DTSTART:20200731T030000Z
DTEND:20200731T043000Z
X-MICROSOFT-CDO-ALLDAYEVENT:FALSE
SUMMARY:The AMCHAM Insight Exchange
DESCRIPTION:Please join us for our first AMCHAM Insight Exchange Online\, a focused business development and networking video conference where you can meet other AMCHAM members to connect\, brainstorm solutions and identify new opportunities.\n\n \n\nThe event kicks off with a brisk round of introductions\, where members present themselves\, their company\, and share a question or request for the others present. Following the general discussion\, members will join smaller breakout groups to discuss solutions and ideas. Contacts will be shared after the meeting to allow members to build further on the connections that you've made and the conversations that you've started.\n\n \n\nAMCHAM Executive Director Heidi Gallant and team will be present in each breakout room to moderate the discussion\, along with members of the AMCHAM Board of Governors.\n\n \n\n \n\nPlease Note:\n\n\n	Only AMCHAM members may register. Spaces are limited to 20 guests\, one representative per company.\n	Attendance is free\, however there is a cancellation charge for any cancellation received after Thursday July 30.\n	In order to participate fully in the breakout rooms experience\, members must join through the Microsoft Teams application on their computer\, not tablet or phone.
X-ALT-DESC;FMTTYPE=text/html:<p>Please join us for our first AMCHAM Insight Exchange Online\, a focused business development and networking video conference where you can meet other AMCHAM members to connect\, brainstorm solutions and identify new opportunities.<br />\n&nbsp\;<br />\nThe event kicks off with a brisk round of introductions\, where members present themselves\, their company\, and share a question or request for the others present. Following the general discussion\, members will join smaller breakout groups to discuss solutions and ideas. Contacts will be shared after the meeting to allow members to build further on the connections that you&#39\;ve made and the conversations that you&#39\;ve started.<br />\n&nbsp\;<br />\nAMCHAM Executive Director Heidi Gallant and team will be present in each breakout room to moderate the discussion\, along with members of the AMCHAM Board of Governors.<br />\n&nbsp\;<br />\n&nbsp\;<br />\n<strong>Please Note</strong>:</p>\n\n<ul>\n	<li>Only AMCHAM members may register. Spaces are limited to 20 guests\, one representative per company.</li>\n	<li>Attendance is free\, however there is a cancellation charge for any cancellation received after Thursday&nbsp\;July&nbsp\;30.</li>\n	<li>In order to participate fully in the breakout rooms experience\, members must join through the Microsoft Teams application on their computer\, not tablet or phone.</li>\n</ul>\n<br />\n&nbsp\;
LOCATION:Online Video Conference
UID:e.3314.1635
SEQUENCE:3
DTSTAMP:20260422T162754Z
URL:http://www.connect.amchamthailand.com/events/details/the-amcham-insight-exchange-1635
END:VEVENT

END:VCALENDAR
