BEGIN:VCALENDAR
VERSION:2.0
PRODID:-//ChamberMaster//Event Calendar 2.0//EN
METHOD:PUBLISH
X-PUBLISHED-TTL:P3D
REFRESH-INTERVAL:P3D
CALSCALE:GREGORIAN
BEGIN:VEVENT
DTSTART:20210830T040000Z
DTEND:20210830T050000Z
X-MICROSOFT-CDO-ALLDAYEVENT:FALSE
SUMMARY:The AMCHAM Leadership Exchange
DESCRIPTION:AMCHAM's greatest strength is its diverse and committed community of volunteer leaders who plan the majority of event programming and advocacy initiatives.\n\nThis open\, discussion-focused event is a chance for AMCHAM leaders to connect and collaborate across different committees and councils\, exchange thoughts and ideas\, and build relationships.\n\nThere are no pre-set agenda topics. Instead\, we ask each leader to come prepared with an 'ask' to share with the group - this may be a request for speakers on upcoming events\; suggestions for new leader recruitment\; possibilities for joint committee events or advocacy initiatives\; or any other feedback or help on AMCHAM related activities.\n\nFollowing a quick round of introductions and sharing our 'asks'\, we'll break out into smaller discussion groups to explore the issues raised in more detail. Each group will be moderated by the Executive Director or one of the Board Governors on the call.\n\n \n\nThis event is by invitation only\, for AMCHAM Committee and Council Co-chairs as well as Board Governors. If you are interested in learning more about AMCHAM Committee or Council leadership possibilities\, please contact Sarawan at sarawan@amchamthailand.com
X-ALT-DESC;FMTTYPE=text/html:<div>\n<p>AMCHAM&#39\;s greatest strength is its diverse and committed community of volunteer leaders who plan the majority of event programming and advocacy initiatives.</p>\n\n<p>This open\, discussion-focused event is a chance for AMCHAM leaders to connect and collaborate across different committees and councils\, exchange thoughts and ideas\, and build relationships.</p>\n\n<p>There are no pre-set agenda topics. Instead\, we ask each leader to come prepared with an &#39\;ask&#39\;&nbsp\;to share with the group -&nbsp\;this may be a request for speakers on upcoming events\; suggestions for new leader recruitment\; possibilities for joint committee events or advocacy initiatives\; or any other feedback or help on AMCHAM related activities.</p>\n\n<p>Following a quick round of introductions and sharing our &#39\;asks&#39\;\, we&#39\;ll break out into smaller discussion groups to explore the issues raised in more detail. Each group will be moderated by the Executive Director or one of the Board Governors on the call.<br />\n&nbsp\;</p>\n\n<p><em>This event is by invitation only\, for AMCHAM Committee and Council Co-chairs as well as Board Governors. If you are interested in learning more about AMCHAM Committee or Council leadership possibilities\, please contact Sarawan at <u>sarawan@amchamthailand.com</u></em></p>\n</div>\n
LOCATION:Online Video Conference
UID:e.3314.1970
SEQUENCE:3
DTSTAMP:20260421T173832Z
URL:http://www.connect.amchamthailand.com/events/details/the-amcham-leadership-exchange-1970
END:VEVENT

END:VCALENDAR
